BEGIN:VCALENDAR
VERSION:2.0
PRODID:-//Miedema Auctioneering &amp; Appraisals, Inc. - ECPv4.6.23//NONSGML v1.0//EN
CALSCALE:GREGORIAN
METHOD:PUBLISH
X-WR-CALNAME:Miedema Auctioneering &amp; Appraisals, Inc.
X-ORIGINAL-URL:https://staging.miedemaauctioneering.com
X-WR-CALDESC:Events for Miedema Auctioneering &amp; Appraisals, Inc.
BEGIN:VEVENT
DTSTART;TZID=America/Detroit:20101029T190000
DTEND;TZID=America/Detroit:20101029T210000
DTSTAMP:20260419T214208
CREATED:20170120T190757Z
LAST-MODIFIED:20170120T190757Z
UID:5883-1288378800-1288386000@staging.miedemaauctioneering.com
SUMMARY:Zion Christian School Live Charity Auction
DESCRIPTION:All The proceeds for this auction will go to Zion Christian School for educational supplies and services that directly benefit Zion Christian Students. \n
URL:https://staging.miedemaauctioneering.com/auction-calendar/zion-christian-school-live-charity-auction-2/
LOCATION:Zion Christian School\, 7555 Byron Center Ave SW\, Byron Center\, MI\, 49315\, United States
GEO:42.827807;-85.7242629
X-APPLE-STRUCTURED-LOCATION;VALUE=URI;X-ADDRESS=Zion Christian School 7555 Byron Center Ave SW Byron Center MI 49315 United States;X-APPLE-RADIUS=500;X-TITLE=7555 Byron Center Ave SW:geo:-85.7242629,42.827807
ORGANIZER;CN="Chuck%20Ranney%20-%20Auction%20Manager":MAILTO:chuck@1800lastbid.com
END:VEVENT
END:VCALENDAR