BEGIN:VCALENDAR
VERSION:2.0
PRODID:-//Miedema Auctioneering &amp; Appraisals, Inc. - ECPv4.6.23//NONSGML v1.0//EN
CALSCALE:GREGORIAN
METHOD:PUBLISH
X-WR-CALNAME:Miedema Auctioneering &amp; Appraisals, Inc.
X-ORIGINAL-URL:https://staging.miedemaauctioneering.com
X-WR-CALDESC:Events for Miedema Auctioneering &amp; Appraisals, Inc.
BEGIN:VEVENT
DTSTART;TZID=America/Detroit:20111201T183000
DTEND;TZID=America/Detroit:20111201T190000
DTSTAMP:20260419T173050
CREATED:20170119T202841Z
LAST-MODIFIED:20170119T202841Z
UID:5725-1322764200-1322766000@staging.miedemaauctioneering.com
SUMMARY:Wine and Roses Event
DESCRIPTION:The Cystic Fibrosis Foundation will be honoring West Michigan’s Finest at the 8th Annual Wine & Roses Event. This prestigious event will pay tribute to very select West Michigan’s business professionals who are up and coming within the community. Each honoree takes on the role of finding a cure for cystic fibrosis (CF) by raising critical funds for research. In this role\, they have the opportunity to network with other professionals\, be recognized in the community as a leader in business and philanthropy\, receive a significant community award\, align themselves with a charity\, and help make a difference in the lives of so many families. \n
URL:https://staging.miedemaauctioneering.com/auction-calendar/wine-and-roses-event/
LOCATION:Hilton Hotel\, 28th St and Patterson Ave\, Grand Rapids\, MI\, United States
GEO:42.9125571;-85.548969
X-APPLE-STRUCTURED-LOCATION;VALUE=URI;X-ADDRESS=Hilton Hotel 28th St and Patterson Ave Grand Rapids MI United States;X-APPLE-RADIUS=500;X-TITLE=28th St and Patterson Ave:geo:-85.548969,42.9125571
ORGANIZER;CN="Chuck%20Ranney%20-%20Auction%20Manager":MAILTO:chuck@1800lastbid.com
END:VEVENT
END:VCALENDAR