BEGIN:VCALENDAR
VERSION:2.0
PRODID:-//Miedema Auctioneering &amp; Appraisals, Inc. - ECPv4.6.23//NONSGML v1.0//EN
CALSCALE:GREGORIAN
METHOD:PUBLISH
X-WR-CALNAME:Miedema Auctioneering &amp; Appraisals, Inc.
X-ORIGINAL-URL:https://staging.miedemaauctioneering.com
X-WR-CALDESC:Events for Miedema Auctioneering &amp; Appraisals, Inc.
BEGIN:VEVENT
DTSTART;TZID=America/Detroit:20110430T190000
DTEND;TZID=America/Detroit:20110430T203000
DTSTAMP:20260419T203809
CREATED:20170120T151735Z
LAST-MODIFIED:20170120T151735Z
UID:5812-1304190000-1304195400@staging.miedemaauctioneering.com
SUMMARY:West Side Christian School Charity Auction
DESCRIPTION:All The proceeds for this auction will go to West Side Christian School for educational supplies and services that directly benefit West Side Christian Students. Silent auction begins at 5:30pm and the Live auction begins at 7pm. \nAuction Catalog \n
URL:https://staging.miedemaauctioneering.com/auction-calendar/west-side-christian-school-charity-auction/
LOCATION:955 Westend Avenue NW\, Grand Rapids\, MI\, 49504\, United States
GEO:42.9816705;-85.719713
X-APPLE-STRUCTURED-LOCATION;VALUE=URI;X-ADDRESS=955 Westend Avenue NW Grand Rapids MI 49504 United States;X-APPLE-RADIUS=500;X-TITLE=955 Westend Avenue NW:geo:-85.719713,42.9816705
ORGANIZER;CN="Chuck%20Ranney%20-%20Auction%20Manager":MAILTO:chuck@1800lastbid.com
END:VEVENT
END:VCALENDAR