BEGIN:VCALENDAR
VERSION:2.0
PRODID:-//Miedema Auctioneering &amp; Appraisals, Inc. - ECPv4.6.23//NONSGML v1.0//EN
CALSCALE:GREGORIAN
METHOD:PUBLISH
X-WR-CALNAME:Miedema Auctioneering &amp; Appraisals, Inc.
X-ORIGINAL-URL:https://staging.miedemaauctioneering.com
X-WR-CALDESC:Events for Miedema Auctioneering &amp; Appraisals, Inc.
BEGIN:VEVENT
DTSTART;TZID=America/Detroit:20110823T100000
DTEND;TZID=America/Detroit:20110823T180000
DTSTAMP:20260419T140649
CREATED:20170119T214826Z
LAST-MODIFIED:20170119T214826Z
UID:5769-1314093600-1314122400@staging.miedemaauctioneering.com
SUMMARY:Tri City Tool and Die Inc
DESCRIPTION:After more than 50 successful years in business Mr John Raddatz of Tri City Tool and Die INC.(3515 N Euclid Bay City Michigan 48706) will be retiring and has decided to discontinue operations and hold a LIVE/webcast auction on August 23 at 10:00 and will sell everything. Some highlights include: Fanuc Robocut Wire EDM’s\, DeVlieg 43J40 Boring Mill with CNC controls\, Trak TRL 1840CSS CNC lathe\, Trak DPM 3 Axis CNC Mill\, surface grinders\, lathes\, Hones\, plus all the support equipment. This will be an outstanding opportunity to purchase some well maintained equipment. Come and bid LIVE or on the internet. \nENTER LIVE AUCTION Auction Brochure Equipment List  \n
URL:https://staging.miedemaauctioneering.com/auction-calendar/tri-city-tool-and-die-inc/
LOCATION:3515 N Euclid \, Bay City\, MI\, 48706\, United States
GEO:43.6379998;-83.9136379
X-APPLE-STRUCTURED-LOCATION;VALUE=URI;X-ADDRESS=3515 N Euclid  Bay City MI 48706 United States;X-APPLE-RADIUS=500;X-TITLE=3515 N Euclid:geo:-83.9136379,43.6379998
ORGANIZER;CN="Chuck%20Ranney%20-%20Auction%20Manager":MAILTO:chuck@1800lastbid.com
END:VEVENT
END:VCALENDAR