BEGIN:VCALENDAR
VERSION:2.0
PRODID:-//Miedema Auctioneering &amp; Appraisals, Inc. - ECPv4.6.23//NONSGML v1.0//EN
CALSCALE:GREGORIAN
METHOD:PUBLISH
X-WR-CALNAME:Miedema Auctioneering &amp; Appraisals, Inc.
X-ORIGINAL-URL:https://staging.miedemaauctioneering.com
X-WR-CALDESC:Events for Miedema Auctioneering &amp; Appraisals, Inc.
BEGIN:VEVENT
DTSTART;TZID=America/Detroit:20101123T110000
DTEND;TZID=America/Detroit:20101123T180000
DTSTAMP:20260419T145015
CREATED:20170120T174831Z
LAST-MODIFIED:20170120T174831Z
UID:5862-1290510000-1290535200@staging.miedemaauctioneering.com
SUMMARY:Timberline Logging - ***NEW DATE*** November 23
DESCRIPTION:** New date – November 23** In cooperation with a secured creditor\, Timberline Logging will sell the following assets to the highest bidder with No Minimums or Reserves\, bid live in person or on the Internet – Held at the Gaylord Auto Auction Facility by Miedema Auctioneering Inc. \nENTER LIVE AUCTION Equipment Catalog Auction Brochure Equipment List  \n
URL:https://staging.miedemaauctioneering.com/auction-calendar/timberline-logging-new-date-november-23/
LOCATION:5216 Old 27 North\, Gaylord\, MI\, United States
GEO:45.1055147;-84.6599209
X-APPLE-STRUCTURED-LOCATION;VALUE=URI;X-ADDRESS=5216 Old 27 North Gaylord MI United States;X-APPLE-RADIUS=500;X-TITLE=5216 Old 27 North:geo:-84.6599209,45.1055147
ORGANIZER;CN="Chuck%20Ranney%20-%20Auction%20Manager":MAILTO:chuck@1800lastbid.com
END:VEVENT
END:VCALENDAR