BEGIN:VCALENDAR
VERSION:2.0
PRODID:-//Miedema Auctioneering &amp; Appraisals, Inc. - ECPv4.6.23//NONSGML v1.0//EN
CALSCALE:GREGORIAN
METHOD:PUBLISH
X-WR-CALNAME:Miedema Auctioneering &amp; Appraisals, Inc.
X-ORIGINAL-URL:https://staging.miedemaauctioneering.com
X-WR-CALDESC:Events for Miedema Auctioneering &amp; Appraisals, Inc.
BEGIN:VEVENT
DTSTART;TZID=America/Detroit:20101103T110000
DTEND;TZID=America/Detroit:20101103T180000
DTSTAMP:20260419T230741
CREATED:20170120T190623Z
LAST-MODIFIED:20170120T190623Z
UID:5881-1288782000-1288807200@staging.miedemaauctioneering.com
SUMMARY:Timberline Logging Auction wil be held 11/23
DESCRIPTION:This Auction has been moved to Tuesday\, November 23.  See listing on that date for all details. \n
URL:https://staging.miedemaauctioneering.com/auction-calendar/timberline-logging-auction-wil-be-held-1123/
ORGANIZER;CN="Chuck%20Ranney%20-%20Auction%20Manager":MAILTO:chuck@1800lastbid.com
END:VEVENT
END:VCALENDAR