BEGIN:VCALENDAR
VERSION:2.0
PRODID:-//Miedema Auctioneering &amp; Appraisals, Inc. - ECPv4.6.23//NONSGML v1.0//EN
CALSCALE:GREGORIAN
METHOD:PUBLISH
X-WR-CALNAME:Miedema Auctioneering &amp; Appraisals, Inc.
X-ORIGINAL-URL:https://staging.miedemaauctioneering.com
X-WR-CALDESC:Events for Miedema Auctioneering &amp; Appraisals, Inc.
BEGIN:VEVENT
DTSTART;TZID=America/Detroit:20111001T090000
DTEND;TZID=America/Detroit:20111001T180000
DTSTAMP:20260419T202459
CREATED:20170119T210855Z
LAST-MODIFIED:20170119T210855Z
UID:5758-1317459600-1317492000@staging.miedemaauctioneering.com
SUMMARY:Stamm Equipment Auction - Day Two
DESCRIPTION:After 53 years in business\, John is retiring.  Stamm Equipment is one of the largest used parts and equipment dealers in the country! A TWO DAY SALE!! NO MINIMUMS NO RESERVES! A live auction will be held onsite at Stamm Equipment\, Internet bidding is also available via proxibid.com. Highlights Include; Selling all remaining inventory of tractors\, farm equipment\, industrial\, trucks and trailers used in the business\, loaders\, forklifts\, tire shop equipment & inventory\, shop equipment\, also including used engine blocks & cylinder heads\, & office equipment.  Also selling a huge assortment (over 500) parts books and manuals for all makes and models.  These have been accumulated for use in their business over the 50 years\, and now you will have the opportunity to buy them! Come out for a complimentary pancake breakfast and help celebrate John’s retirement.  Breakfast will be from 7am – 10am.  Come celebrate with John\, his friends\, and customers \nENTER LIVE AUCTION Day Two Auction Catalog Pt. 1 Day Two Auction Catalog Pt. 2 Day Two Auction Catalog Pt. 3  Day Two Auction Catalog Pt. 4  Auction Brochure \n
URL:https://staging.miedemaauctioneering.com/auction-calendar/stamm-equipment-auction-day-two/
LOCATION:3450 12th St. \, Wayland\, MI\, 49348\, United States
GEO:42.671631;-85.661909
X-APPLE-STRUCTURED-LOCATION;VALUE=URI;X-ADDRESS=3450 12th St.  Wayland MI 49348 United States;X-APPLE-RADIUS=500;X-TITLE=3450 12th St.:geo:-85.661909,42.671631
ORGANIZER;CN="Chuck%20Ranney%20-%20Auction%20Manager":MAILTO:chuck@1800lastbid.com
END:VEVENT
END:VCALENDAR