BEGIN:VCALENDAR
VERSION:2.0
PRODID:-//Miedema Auctioneering &amp; Appraisals, Inc. - ECPv4.6.23//NONSGML v1.0//EN
CALSCALE:GREGORIAN
METHOD:PUBLISH
X-WR-CALNAME:Miedema Auctioneering &amp; Appraisals, Inc.
X-ORIGINAL-URL:https://staging.miedemaauctioneering.com
X-WR-CALDESC:Events for Miedema Auctioneering &amp; Appraisals, Inc.
BEGIN:VEVENT
DTSTART;TZID=America/Detroit:20110930T090000
DTEND;TZID=America/Detroit:20110930T180000
DTSTAMP:20260419T173432
CREATED:20170119T211123Z
LAST-MODIFIED:20170119T211123Z
UID:5761-1317373200-1317405600@staging.miedemaauctioneering.com
SUMMARY:Stamm Equipment Auction - Day One
DESCRIPTION:After 53 years in business\, John is retiring.  Stamm Equipment is one of the largest used parts and equipment dealers in the country! A TWO DAY SALE!! NO MINIMUMS NO RESERVES!  Auction will be held live at 3450 12th St\, Wayland\, MI 49348\, Internet bidding is also available via Proxibid.com Auction Highlights Include; New\, used\, rebuilt tractor & equipment parts including: cylinder heads\, blocks\, starters\, etc. reconditioned through Stamm’s shop. Over 500 bins of parts – John Deere\, Allis Chalmers\, International\, Case\, Ford\, Massey Ferguson\, etc.  Plus\, office and shop equipment. Come out for a complimentary pancake breakfast and help celebrate John’s retirement.  Breakfast will be from 7am – 10am.  Come celebrate with John\, his friends\, and customers. \nENTER LIVE AUCTION Auction Brochure \n
URL:https://staging.miedemaauctioneering.com/auction-calendar/stamm-equipment-auction-day-one/
LOCATION:3450 12th St \, Wayland\, MI\, 49348\, United States
GEO:42.671631;-85.661909
X-APPLE-STRUCTURED-LOCATION;VALUE=URI;X-ADDRESS=3450 12th St  Wayland MI 49348 United States;X-APPLE-RADIUS=500;X-TITLE=3450 12th St:geo:-85.661909,42.671631
ORGANIZER;CN="Chuck%20Ranney%20-%20Auction%20Manager":MAILTO:chuck@1800lastbid.com
END:VEVENT
END:VCALENDAR