BEGIN:VCALENDAR
VERSION:2.0
PRODID:-//Miedema Auctioneering &amp; Appraisals, Inc. - ECPv4.6.23//NONSGML v1.0//EN
CALSCALE:GREGORIAN
METHOD:PUBLISH
X-WR-CALNAME:Miedema Auctioneering &amp; Appraisals, Inc.
X-ORIGINAL-URL:https://staging.miedemaauctioneering.com
X-WR-CALDESC:Events for Miedema Auctioneering &amp; Appraisals, Inc.
BEGIN:VEVENT
DTSTART;TZID=America/Detroit:20120518T100000
DTEND;TZID=America/Detroit:20120518T180000
DTSTAMP:20260421T001726
CREATED:20170119T192311Z
LAST-MODIFIED:20170119T192311Z
UID:5650-1337335200-1337364000@staging.miedemaauctioneering.com
SUMMARY:Spring Pontiac Construction Equipment Auction
DESCRIPTION:HUGE one day construction equipment auction. Featuring: NEW equipment\, contractor sellouts\, bank repos\, municipality equipment\, dealer trade-ins\, and millions of dollars of later model construction equipment\, including excavators\, dozers\, loaders\, backhoes\, skidsteers\, and trucks & trailers. Quality equipment welcome\, Call Chuck Ranney at 1-800-527-8243 or email chuck@1800lastbid.com. Bid live on site or on the internet. \n
URL:https://staging.miedemaauctioneering.com/auction-calendar/spring-pontiac-construction-equipment-auction/
LOCATION:207 N. Opdyke Road\, Pontiac\, MI\, 48342\, United States
GEO:42.6407562;-83.2498258
X-APPLE-STRUCTURED-LOCATION;VALUE=URI;X-ADDRESS=207 N. Opdyke Road Pontiac MI 48342 United States;X-APPLE-RADIUS=500;X-TITLE=207 N. Opdyke Road:geo:-83.2498258,42.6407562
ATTACH;FMTTYPE=image/jpeg:https://s3.amazonaws.com/miedemaauctioneering/wp-content/uploads/2017/01/19142257/DSCF00491.jpg
ORGANIZER;CN="Chuck%20Ranney%20-%20Auction%20Manager":MAILTO:chuck@1800lastbid.com
END:VEVENT
END:VCALENDAR