BEGIN:VCALENDAR
VERSION:2.0
PRODID:-//Miedema Auctioneering &amp; Appraisals, Inc. - ECPv4.6.23//NONSGML v1.0//EN
CALSCALE:GREGORIAN
METHOD:PUBLISH
X-WR-CALNAME:Miedema Auctioneering &amp; Appraisals, Inc.
X-ORIGINAL-URL:https://staging.miedemaauctioneering.com
X-WR-CALDESC:Events for Miedema Auctioneering &amp; Appraisals, Inc.
BEGIN:VEVENT
DTSTART;TZID=America/Detroit:20110520T100000
DTEND;TZID=America/Detroit:20110520T180000
DTSTAMP:20260419T221242
CREATED:20170120T151549Z
LAST-MODIFIED:20170120T151549Z
UID:5809-1305885600-1305914400@staging.miedemaauctioneering.com
SUMMARY:Spring Pontiac Construction Equipment Auction
DESCRIPTION:HUGE one day construction equipment auction. Featuring: NEW equipment\, contractor sellouts\, bank repos\, municipality equipment\, dealer trade-ins\, and millions of dollars of later model construction equipment\, including excavators\, dozers\, loaders\, backhoes\, skidsteers\, and trucks & trailers. Quality equipment welcome\, Call Chuck Ranney at 1-800-527-8243 or email chuck@1800lastbid.com.  Bid live on site or on the internet. \nENTER LIVE AUCTION Auction Brochure Late Additions \n
URL:https://staging.miedemaauctioneering.com/auction-calendar/spring-pontiac-construction-equipment-auction-2/
LOCATION:207 N Opdyke Road\, Pontiac\, MI\, 48342\, United States
ORGANIZER;CN="Chuck%20Ranney%20-%20Auction%20Manager":MAILTO:chuck@1800lastbid.com
END:VEVENT
END:VCALENDAR