BEGIN:VCALENDAR
VERSION:2.0
PRODID:-//Miedema Auctioneering &amp; Appraisals, Inc. - ECPv4.6.23//NONSGML v1.0//EN
CALSCALE:GREGORIAN
METHOD:PUBLISH
X-WR-CALNAME:Miedema Auctioneering &amp; Appraisals, Inc.
X-ORIGINAL-URL:https://staging.miedemaauctioneering.com
X-WR-CALDESC:Events for Miedema Auctioneering &amp; Appraisals, Inc.
BEGIN:VEVENT
DTSTART;TZID=America/Detroit:20101108T180000
DTEND;TZID=America/Detroit:20101108T233000
DTSTAMP:20260419T181519
CREATED:20170120T175625Z
LAST-MODIFIED:20170120T175625Z
UID:5874-1289239200-1289259000@staging.miedemaauctioneering.com
SUMMARY:Signature Chefs Auction
DESCRIPTION:Imagine having a baby three months early that weighs less than two pounds. You don’t know if your child will survive. You don’t know why this happened. \nBabies are born too soon every day in West Michigan and in communities across the nation. The March of Dimes is working to find out what causes babies to be born too soon and how premature birth can be prevented. \nOver the past decade\, the number of babies born preterm has increased at an alarming rate. Over half a million babies are born prematurely each year in the United States equating to one out of every eight babies. The causes of most premature births are still largely unknown. Prematurity is the number one killer of newborns in our country. Premature babies may also suffer serious long-term consequences. These babies may develop problems such as blindness and learning disabilities that affect them for their entire lives. The direct health care costs to employers for premature babies during the first year of their lives average $41\,610\, compared to $2\,830 for babies born healthy and full term. The emotional costs can not be estimated. \nYour generous donation this evening will help the March of Dimes and our researchers continue to find answers to the mysteries of prematurity. \n
URL:https://staging.miedemaauctioneering.com/auction-calendar/signature-chefs-auction/
LOCATION:303 Monroe Ave NW\, Grand Rapids\, MI\, United States
GEO:42.9688429;-85.6721262
X-APPLE-STRUCTURED-LOCATION;VALUE=URI;X-ADDRESS=303 Monroe Ave NW Grand Rapids MI United States;X-APPLE-RADIUS=500;X-TITLE=303 Monroe Ave NW:geo:-85.6721262,42.9688429
ORGANIZER;CN="Chuck%20Ranney%20-%20Auction%20Manager":MAILTO:chuck@1800lastbid.com
END:VEVENT
END:VCALENDAR