BEGIN:VCALENDAR
VERSION:2.0
PRODID:-//Miedema Auctioneering &amp; Appraisals, Inc. - ECPv4.6.23//NONSGML v1.0//EN
CALSCALE:GREGORIAN
METHOD:PUBLISH
X-WR-CALNAME:Miedema Auctioneering &amp; Appraisals, Inc.
X-ORIGINAL-URL:https://staging.miedemaauctioneering.com
X-WR-CALDESC:Events for Miedema Auctioneering &amp; Appraisals, Inc.
BEGIN:VEVENT
DTSTART;TZID=America/Detroit:20140911T180000
DTEND;TZID=America/Detroit:20140911T220000
DTSTAMP:20260419T131659
CREATED:20170106T131543Z
LAST-MODIFIED:20170111T215048Z
UID:4907-1410458400-1410472800@staging.miedemaauctioneering.com
SUMMARY:Ruth's Chris Cares Charity Golf event
DESCRIPTION:With your help\, this year’s Ruth’s Chris Cares Charity\nGolf Event will have an incredible—and indelible—\nimpact on the lives of Kent County’s future leaders.\nBecause every penny of profit from this year’s outing will\ngo to building The Dream Library at Union High School.\nUnion High School is an environment rich with the\nlanguages and cultures of students from all over the world.\nAnd this library –The Dream Library that you’re helping\nto build\, will inspire and motivate future generations to\nlearn\, live\, lead and to make the world\, and especially\ntheir own city\, a better place.\nThis year’s schedule of events: Thursday\, September 11\, 6 PM Dinner & Auction at Ruth’s Chris Steakhouse. Friday\, September 12\, 10AM Shotgun Start Golf at Egypt Valley Country Club. Corporate Foursome Packages available! Contact Brenda Long at 616-776-6401 or blong@amwaygrand.com for questions regarding registration. \n
URL:https://staging.miedemaauctioneering.com/auction-calendar/ruths-chris-cares-charity-golf-event/
LOCATION:Ruth’s Chris Steakhouse
CATEGORIES:Live Auction
ORGANIZER;CN="Chuck%20Ranney%20-%20Auction%20Manager":MAILTO:chuck@1800lastbid.com
END:VEVENT
END:VCALENDAR