BEGIN:VCALENDAR
VERSION:2.0
PRODID:-//Miedema Auctioneering &amp; Appraisals, Inc. - ECPv4.6.23//NONSGML v1.0//EN
CALSCALE:GREGORIAN
METHOD:PUBLISH
X-WR-CALNAME:Miedema Auctioneering &amp; Appraisals, Inc.
X-ORIGINAL-URL:https://staging.miedemaauctioneering.com
X-WR-CALDESC:Events for Miedema Auctioneering &amp; Appraisals, Inc.
BEGIN:VEVENT
DTSTART;TZID=America/Detroit:20120418T110000
DTEND;TZID=America/Detroit:20120418T180000
DTSTAMP:20260422T191830
CREATED:20170119T194027Z
LAST-MODIFIED:20170119T194027Z
UID:5674-1334746800-1334772000@staging.miedemaauctioneering.com
SUMMARY:Rockcrete Transit Mix
DESCRIPTION:After many successful years in business the owner is selling all the equipment and property to pursue other interests.  Highlights include 14 acres with river frontage located on US-10\, 6 cement mixers\, dump truck\, front end loader\, cement bulk haulers\, assorted equipment trailers\, along with all the shop tools\, torch\, welders\, chop saw\, drill press\, tool box with tools\, concrete tools\, plus much\, much more.  Don’t miss this fantastic opportunity to purchase equipment.  Please see our website for a complete listing.  Open house dates for real estate are March 13th from 11:00 to 1:00 and April 9th from 1:00-3:00 or by appointment. Inspection Dates for the equipment: Tuesday\, April 17 8AM-5PM. Please call Chuck Ranney at 616-560-0839. \n
URL:https://staging.miedemaauctioneering.com/auction-calendar/rockcrete-transit-mix/
LOCATION:2221 E. Ludington Dr. \, Clare\, MI\, 48617\, United States
GEO:43.8264479;-84.8024972
X-APPLE-STRUCTURED-LOCATION;VALUE=URI;X-ADDRESS=2221 E. Ludington Dr.  Clare MI 48617 United States;X-APPLE-RADIUS=500;X-TITLE=2221 E. Ludington Dr.:geo:-84.8024972,43.8264479
ATTACH;FMTTYPE=image/jpeg:https://s3.amazonaws.com/miedemaauctioneering/wp-content/uploads/2017/01/19144022/IMG_7434.jpg
ORGANIZER;CN="Chuck%20Ranney%20-%20Auction%20Manager":MAILTO:chuck@1800lastbid.com
END:VEVENT
END:VCALENDAR