BEGIN:VCALENDAR
VERSION:2.0
PRODID:-//Miedema Auctioneering &amp; Appraisals, Inc. - ECPv4.6.23//NONSGML v1.0//EN
CALSCALE:GREGORIAN
METHOD:PUBLISH
X-WR-CALNAME:Miedema Auctioneering &amp; Appraisals, Inc.
X-ORIGINAL-URL:https://staging.miedemaauctioneering.com
X-WR-CALDESC:Events for Miedema Auctioneering &amp; Appraisals, Inc.
BEGIN:VEVENT
DTSTART;TZID=America/Detroit:20121025T180000
DTEND;TZID=America/Detroit:20121025T180000
DTSTAMP:20260419T141619
CREATED:20170119T165829Z
LAST-MODIFIED:20170119T165829Z
UID:5551-1351188000-1351188000@staging.miedemaauctioneering.com
SUMMARY:Project Search
DESCRIPTION:Join us for an evening of fun\, food and fabulous shopping at the Auction to Benefit Project SEARCH on Thursday\, October 25.  FOX 17 Morning News Anchors\, Mike Avery and Sarah Brodhead return as our emcees!  Campus employees will receive a discounted ticket price of $60 until Friday\, October 12.  After that\, they will be available at the full price of $75.  Tickets include a strolling dinner and entry to Meijer Gardens.  Purchase your tickets today:  1) online at www.mycommunitytickets.com (enter code E53PS2012 at check-out) or; 2) in person/or by interoffice mail by completing this form.  View the 2012 Auction Catalog (click on highlights) for items available only to Auction attendees.  Get more information on the CSC website. \n
URL:https://staging.miedemaauctioneering.com/auction-calendar/project-search/
LOCATION:1000 East Beltline Ave NE\, Grand Rapids\, MI\, 49525\, United States
GEO:42.9794445;-85.5897365
X-APPLE-STRUCTURED-LOCATION;VALUE=URI;X-ADDRESS=1000 East Beltline Ave NE Grand Rapids MI 49525 United States;X-APPLE-RADIUS=500;X-TITLE=1000 East Beltline Ave NE:geo:-85.5897365,42.9794445
ATTACH;FMTTYPE=image/jpeg:https://s3.amazonaws.com/miedemaauctioneering/wp-content/uploads/2017/01/19115812/timthumb.jpg
ORGANIZER;CN="Chuck%20Ranney%20-%20Auction%20Manager":MAILTO:chuck@1800lastbid.com
END:VEVENT
END:VCALENDAR