BEGIN:VCALENDAR
VERSION:2.0
PRODID:-//Miedema Auctioneering &amp; Appraisals, Inc. - ECPv4.6.23//NONSGML v1.0//EN
CALSCALE:GREGORIAN
METHOD:PUBLISH
X-WR-CALNAME:Miedema Auctioneering &amp; Appraisals, Inc.
X-ORIGINAL-URL:https://staging.miedemaauctioneering.com
X-WR-CALDESC:Events for Miedema Auctioneering &amp; Appraisals, Inc.
BEGIN:VEVENT
DTSTART;TZID=America/Detroit:20101108T100000
DTEND;TZID=America/Detroit:20101108T180000
DTSTAMP:20260419T211356
CREATED:20170119T203430Z
LAST-MODIFIED:20170119T203430Z
UID:5732-1289210400-1289239200@staging.miedemaauctioneering.com
SUMMARY:Northpoint Precision Equipment Auction
DESCRIPTION:In cooperation with secured creditor\, Northpoint Precision Inc. is liquidating all their equipment and real estate at two locations. This auction is a complete liquidation featuring late model Haas CNC Lathes (7)\, Haas Vertical Machining Centers (6)\, Hem Horizontal Band Saw\, Monarch Engine Lathes\, plus much more equipment. At 10:00am the equipment will sell at the first location\, 407 Renaissance Drive\, Manistee MI (located in renaissance zone). At 12:00pm the equipment will sell at the second location\, 855 E Parkdale Avenue\, Manistee\, MI (US 31). At 2:00pm both Real Estate properties will sell from the 855 E. Parkdale Avenue location. This will be a great opportunity to buy quality late model machinery with no minimums or reserves.\n** PLEASE NOTE TWO DIFFERENT LOCATIONS \n*************************************************************************************************************************************************************\nREAL ESTATE OPEN HOUSE: Wednesday\, October 26\, 11AM-2PM At both locations Thursday\, November 3\, 3PM-6PM\, Monday\, November 7\, 9AM-4PM. \nENTER LIVE AUCTION  Auction Brochure  Equipment List  \n
URL:https://staging.miedemaauctioneering.com/auction-calendar/northpoint-precision-equipment-auction/
LOCATION:855 E Parkdale\, Manistee Mi & 407 Renaissance Drive\, Manistee\, MI  49660\, MI\, United States
ORGANIZER;CN="Chuck%20Ranney%20-%20Auction%20Manager":MAILTO:chuck@1800lastbid.com
END:VEVENT
END:VCALENDAR