BEGIN:VCALENDAR
VERSION:2.0
PRODID:-//Miedema Auctioneering &amp; Appraisals, Inc. - ECPv4.6.23//NONSGML v1.0//EN
CALSCALE:GREGORIAN
METHOD:PUBLISH
X-WR-CALNAME:Miedema Auctioneering &amp; Appraisals, Inc.
X-ORIGINAL-URL:https://staging.miedemaauctioneering.com
X-WR-CALDESC:Events for Miedema Auctioneering &amp; Appraisals, Inc.
BEGIN:VEVENT
DTSTART;TZID=America/Detroit:20110811T133000
DTEND;TZID=America/Detroit:20110811T180000
DTSTAMP:20260419T153433
CREATED:20170120T141850Z
LAST-MODIFIED:20170120T141850Z
UID:5782-1313069400-1313085600@staging.miedemaauctioneering.com
SUMMARY:Michigan Nursery and Landscape Association's Second Annual Snow and Ice Summit
DESCRIPTION:Over 100 booth spaces will be filled with dealers exhibiting tractors and equipment\, nursery stock\, sod\, stone\, mulch\, concrete products\, pots and containers\, chemicals and fertilizers\, snow and ice products and equipment\, and other industry products and services. This is an excellent opportunity to see what is new in the industry\, as well as meet current and prospective suppliers. Live Auction Starts at 1:30 PM. All attendees are invited to participate as bidders in this event led by an auctioneer. Join in the fun and excitement where attendees get to bid against one another on their favorite items. \n
URL:https://staging.miedemaauctioneering.com/auction-calendar/michigan-nursery-and-landscape-associations-second-annual-snow-and-ice-summit/
LOCATION:Litchfield\, MI\, United States
GEO:42.0439345;-84.7574647
ORGANIZER;CN="Chuck%20Ranney%20-%20Auction%20Manager":MAILTO:chuck@1800lastbid.com
END:VEVENT
END:VCALENDAR