BEGIN:VCALENDAR
VERSION:2.0
PRODID:-//Miedema Auctioneering &amp; Appraisals, Inc. - ECPv4.6.23//NONSGML v1.0//EN
CALSCALE:GREGORIAN
METHOD:PUBLISH
X-WR-CALNAME:Miedema Auctioneering &amp; Appraisals, Inc.
X-ORIGINAL-URL:https://staging.miedemaauctioneering.com
X-WR-CALDESC:Events for Miedema Auctioneering &amp; Appraisals, Inc.
BEGIN:VEVENT
DTSTART;TZID=America/Detroit:20120920T170000
DTEND;TZID=America/Detroit:20120920T180000
DTSTAMP:20260420T031510
CREATED:20170119T184745Z
LAST-MODIFIED:20170119T184745Z
UID:5589-1348160400-1348164000@staging.miedemaauctioneering.com
SUMMARY:MICHIGAN: Land & Home Auction - 75 acres Kent City\, MI
DESCRIPTION:Land & Home Auction – Kent City\, MI. 75 Acres of prime farmland\, a nice country home with a barn and storage building/shop on 4.2 acres plus a mobile home for rental income. Offered in two separate parcels or in its entirety\, the owners have purchased a new home and therefore are selling this property at auction to the highest bidder. Convenient location\, nice country setting\, and possible commercial zoning uses with prime location of 17 Mile Rd/M-46. Outstanding opportunity! Doc and Mary Lou Afton – Owners. \n
URL:https://staging.miedemaauctioneering.com/auction-calendar/michigan-land-home-auction-75-acres-kent-city-mi/
LOCATION:14111 Ball Creek Road\, Kent CIty\, MI\, 49330\, United States
GEO:43.221949;-85.761398
X-APPLE-STRUCTURED-LOCATION;VALUE=URI;X-ADDRESS=14111 Ball Creek Road Kent CIty MI 49330 United States;X-APPLE-RADIUS=500;X-TITLE=14111 Ball Creek Road:geo:-85.761398,43.221949
ATTACH;FMTTYPE=image/jpeg:https://s3.amazonaws.com/miedemaauctioneering/wp-content/uploads/2017/01/19134739/100_1995.jpg
ORGANIZER;CN="Chuck%20Ranney%20-%20Auction%20Manager":MAILTO:chuck@1800lastbid.com
END:VEVENT
END:VCALENDAR