BEGIN:VCALENDAR
VERSION:2.0
PRODID:-//Miedema Auctioneering &amp; Appraisals, Inc. - ECPv4.6.23//NONSGML v1.0//EN
CALSCALE:GREGORIAN
METHOD:PUBLISH
X-WR-CALNAME:Miedema Auctioneering &amp; Appraisals, Inc.
X-ORIGINAL-URL:https://staging.miedemaauctioneering.com
X-WR-CALDESC:Events for Miedema Auctioneering &amp; Appraisals, Inc.
BEGIN:VEVENT
DTSTART;TZID=America/Detroit:20150619T100000
DTEND;TZID=America/Detroit:20150619T120000
DTSTAMP:20260421T105301
CREATED:20161228T165708Z
LAST-MODIFIED:20170111T213637Z
UID:4699-1434708000-1434715200@staging.miedemaauctioneering.com
SUMMARY:MICHIGAN: Heritage Farms - The Zeerips
DESCRIPTION:LIVE AUCTION – The Zeerips have decided to re-focus their farm operation and will be selling all of their smaller fresh vegetable equipment as well as other equipment no longer needed. Highlights include AgRain T-40A ¼ Mile Hard Hose Big Gun\, John Deere diesel irrigation pump\, Case IH 5140 MFWD\, complete line of plastic laying equipment\, complete small vegetable packing line\, 3”\, 4” and 6” aluminum irrigation pipe\, Ferris 2-row poly planter\, trucks\, wagons\, etc. Heritage Farms\, 1888 S. Maple Island Rd.\, Fremont\, MI 49412 \nENTER LIVE AUCTION Auction Catalog Auction Brochure \n
URL:https://staging.miedemaauctioneering.com/auction-calendar/michigan-heritage-farms-the-zeerips/
LOCATION:Heritage Farms – The Zeerips\, 1888 S. Maple Island Rd. \, Fremont\, MI\, 49412\, United States
GEO:43.5180116;-86.0394498
X-APPLE-STRUCTURED-LOCATION;VALUE=URI;X-ADDRESS=Heritage Farms – The Zeerips 1888 S. Maple Island Rd.  Fremont MI 49412 United States;X-APPLE-RADIUS=500;X-TITLE=1888 S. Maple Island Rd.:geo:-86.0394498,43.5180116
CATEGORIES:Live and Online Webcast Auction
ATTACH;FMTTYPE=image/jpeg:https://s3.amazonaws.com/miedemaauctioneering/wp-content/uploads/2016/12/28115326/Hertiage-Farms.jpg
ORGANIZER;CN="Chuck%20Ranney%20-%20Auction%20Manager":MAILTO:chuck@1800lastbid.com
END:VEVENT
END:VCALENDAR