BEGIN:VCALENDAR
VERSION:2.0
PRODID:-//Miedema Auctioneering &amp; Appraisals, Inc. - ECPv4.6.23//NONSGML v1.0//EN
CALSCALE:GREGORIAN
METHOD:PUBLISH
X-WR-CALNAME:Miedema Auctioneering &amp; Appraisals, Inc.
X-ORIGINAL-URL:https://staging.miedemaauctioneering.com
X-WR-CALDESC:Events for Miedema Auctioneering &amp; Appraisals, Inc.
BEGIN:VEVENT
DTSTART;TZID=America/Detroit:20151027T100000
DTEND;TZID=America/Detroit:20151027T120000
DTSTAMP:20260419T135028
CREATED:20161228T150226Z
LAST-MODIFIED:20170119T191142Z
UID:4653-1445940000-1445947200@staging.miedemaauctioneering.com
SUMMARY:MICHIGAN: GT Services
DESCRIPTION:LIVE AUCTION: MICHIGAN Paul Warner\, the owner of GT Services has decided to retire and sell all his remaining equipment via live auction with internet bidding. Highlights include New Holland skid steers\, New Holland commercial mowers\, New Holland tractor with plow blade\, salt spreader truck with scraper blade\, loader backhoe\, skid steer attachments plus much more. This is a great opportunity to purchase some low hour machines to build your fleet this winter! \nENTER LIVE AUCTION  GT Services Brochure  Equipment List \n
URL:https://staging.miedemaauctioneering.com/auction-calendar/michigan-gt-services/
LOCATION:GT Services\, 809 Freeman\, Grand Rapids\, MI\, 49503\, United States
GEO:42.9491675;-85.6953177
X-APPLE-STRUCTURED-LOCATION;VALUE=URI;X-ADDRESS=GT Services 809 Freeman Grand Rapids MI 49503 United States;X-APPLE-RADIUS=500;X-TITLE=809 Freeman:geo:-85.6953177,42.9491675
CATEGORIES:Live and Online Webcast Auction
ATTACH;FMTTYPE=image/jpeg:https://s3.amazonaws.com/miedemaauctioneering/wp-content/uploads/2016/12/28100212/Gt-Services.jpg
ORGANIZER;CN="Chuck%20Ranney%20-%20Auction%20Manager":MAILTO:chuck@1800lastbid.com
END:VEVENT
END:VCALENDAR