BEGIN:VCALENDAR
VERSION:2.0
PRODID:-//Miedema Auctioneering &amp; Appraisals, Inc. - ECPv4.6.23//NONSGML v1.0//EN
CALSCALE:GREGORIAN
METHOD:PUBLISH
X-WR-CALNAME:Miedema Auctioneering &amp; Appraisals, Inc.
X-ORIGINAL-URL:https://staging.miedemaauctioneering.com
X-WR-CALDESC:Events for Miedema Auctioneering &amp; Appraisals, Inc.
BEGIN:VEVENT
DTSTART;TZID=America/Detroit:20120626T100000
DTEND;TZID=America/Detroit:20120626T180000
DTSTAMP:20260420T101709
CREATED:20170119T190025Z
LAST-MODIFIED:20170119T190025Z
UID:5619-1340704800-1340733600@staging.miedemaauctioneering.com
SUMMARY:MICHIGAN: Excess Equipment Auction
DESCRIPTION:Taylor Construction will be having a live auction with Internet bidding to sell excess equipment\, trucks and materials on June 26th\, 2012 at 10am.  Some highlights include:  Extec mobile screening plant\, John Deere 650GLGP Crawler Dozer\, Volvo Loader\, Bobcat Skid-Steer\, John Deere 480-A Forklift\, Ford Tri-Axle Semi\, 50-Ton Lowboy\, Rubble-Tub Lead\, Ford Service Trucks\, Late Model Pickups\, Storage Trailers\, Job Trailers\, Storage/Shipping Containers\, Assorted Sewer/Water Piping\, Street Plates\, Tools\, and much\, much more!  This will be an auction you do not want to miss! \n
URL:https://staging.miedemaauctioneering.com/auction-calendar/michigan-excess-equipment-auction/
LOCATION:15139 South 24th st \, Vicksburg\, MI\, 49097\, United States
GEO:42.0978065;-85.5295552
X-APPLE-STRUCTURED-LOCATION;VALUE=URI;X-ADDRESS=15139 South 24th st  Vicksburg MI 49097 United States;X-APPLE-RADIUS=500;X-TITLE=15139 South 24th st:geo:-85.5295552,42.0978065
ATTACH;FMTTYPE=image/jpeg:https://s3.amazonaws.com/miedemaauctioneering/wp-content/uploads/2017/01/19140011/DSC005662.jpg
ORGANIZER;CN="Chuck%20Ranney%20-%20Auction%20Manager":MAILTO:chuck@1800lastbid.com
END:VEVENT
END:VCALENDAR