BEGIN:VCALENDAR
VERSION:2.0
PRODID:-//Miedema Auctioneering &amp; Appraisals, Inc. - ECPv4.6.23//NONSGML v1.0//EN
CALSCALE:GREGORIAN
METHOD:PUBLISH
X-WR-CALNAME:Miedema Auctioneering &amp; Appraisals, Inc.
X-ORIGINAL-URL:https://staging.miedemaauctioneering.com
X-WR-CALDESC:Events for Miedema Auctioneering &amp; Appraisals, Inc.
BEGIN:VEVENT
DTSTART;TZID=America/Detroit:20130413T100000
DTEND;TZID=America/Detroit:20130413T180000
DTSTAMP:20260419T120846
CREATED:20170113T170125Z
LAST-MODIFIED:20170116T182405Z
UID:5361-1365847200-1365876000@staging.miedemaauctioneering.com
SUMMARY:MICHIGAN: Donald and Ilene Gilchrist Farm Equipment Auction
DESCRIPTION:Donald and Ilene Gilchrist have decided to sell their farm equipment at a LIVE public auction.  Don has experienced some health issues  and is no longer farming. The Gilchrists have commissioned Miedema Auctioneering\, Inc. to sell the remainder of their farm equipment on Saturday\, April 13\, 2013 at 10:00 A.M.  Some highlights include an International Farmall 756 Tractor\, Farmall Super C Tractor\, John Deere 336 Baler\, 5 Kicker Wagons\, New Holland L250 Skid Steer\, John Deere #7 Corn Sheller mounted on a Trailer\, White 13 ½ foot dual wheel disc\, Hesston PT-10 Haybine\, H&S Manure Spreader\, plus much more.  Most of this equipment has been stored indoors and is ready to work.  There are not many small items so please be on time. Don’t miss this great opportunity! \nEnter Brochure  \n
URL:https://staging.miedemaauctioneering.com/auction-calendar/michigan-donald-and-ilene-gilchrist-farm-equipment-auction/
LOCATION:5330 W Stone Road\, New Era\, MI\, 49446\, United States
GEO:43.571438;-86.41208
X-APPLE-STRUCTURED-LOCATION;VALUE=URI;X-ADDRESS=5330 W Stone Road New Era MI 49446 United States;X-APPLE-RADIUS=500;X-TITLE=5330 W Stone Road:geo:-86.41208,43.571438
CATEGORIES:Live Auction
ORGANIZER;CN="Chuck%20Ranney%20-%20Auction%20Manager":MAILTO:chuck@1800lastbid.com
END:VEVENT
END:VCALENDAR