BEGIN:VCALENDAR
VERSION:2.0
PRODID:-//Miedema Auctioneering &amp; Appraisals, Inc. - ECPv4.6.23//NONSGML v1.0//EN
CALSCALE:GREGORIAN
METHOD:PUBLISH
X-WR-CALNAME:Miedema Auctioneering &amp; Appraisals, Inc.
X-ORIGINAL-URL:https://staging.miedemaauctioneering.com
X-WR-CALDESC:Events for Miedema Auctioneering &amp; Appraisals, Inc.
BEGIN:VEVENT
DTSTART;TZID=America/Detroit:20140329T100000
DTEND;TZID=America/Detroit:20140329T180000
DTSTAMP:20260419T143620
CREATED:20170106T152057Z
LAST-MODIFIED:20170116T175120Z
UID:4950-1396087200-1396116000@staging.miedemaauctioneering.com
SUMMARY:MICHIGAN: Deur Dairy Farm - NOTE DATE CHANGE FOR THIS AUCTION
DESCRIPTION:NOTE DATE CHANGE FOR THIS AUCTION: Saturday\, March 29 – Having sold their farm land and buildings at auction in November\, Phil & Stan Deur and families will be selling all of their farm equipment. Highlights Include: JD8400 MFWD\, JD8100 MFWD\, JD7210 MFWD\, JD7720 MFWD\, JD SP Haybine model #4995 and SN E04995X350947\, JD 7720 Titan II 4WD Combine\, plus much more good equipment. \nENTER LIVE AUCTION Duer Catalog Deur Brochure Equipment List \n
URL:https://staging.miedemaauctioneering.com/auction-calendar/michigan-deur-dairy-farm-note-date-change-for-this-auction/
LOCATION:6760 S. Warner \, Fremont\, MI\, 49412\, United States
GEO:43.432915;-85.937247
X-APPLE-STRUCTURED-LOCATION;VALUE=URI;X-ADDRESS=6760 S. Warner  Fremont MI 49412 United States;X-APPLE-RADIUS=500;X-TITLE=6760 S. Warner:geo:-85.937247,43.432915
CATEGORIES:Live and Online Webcast Auction
ATTACH;FMTTYPE=image/jpeg:https://s3.amazonaws.com/miedemaauctioneering/wp-content/uploads/2017/01/06101847/IMG_03861.jpg
ORGANIZER;CN="Chuck%20Ranney%20-%20Auction%20Manager":MAILTO:chuck@1800lastbid.com
END:VEVENT
END:VCALENDAR