BEGIN:VCALENDAR
VERSION:2.0
PRODID:-//Miedema Auctioneering &amp; Appraisals, Inc. - ECPv4.6.23//NONSGML v1.0//EN
CALSCALE:GREGORIAN
METHOD:PUBLISH
X-WR-CALNAME:Miedema Auctioneering &amp; Appraisals, Inc.
X-ORIGINAL-URL:https://staging.miedemaauctioneering.com
X-WR-CALDESC:Events for Miedema Auctioneering &amp; Appraisals, Inc.
BEGIN:VEVENT
DTSTART;TZID=America/Detroit:20120820T103000
DTEND;TZID=America/Detroit:20120820T180000
DTSTAMP:20260419T195810
CREATED:20170119T185403Z
LAST-MODIFIED:20170119T185403Z
UID:5603-1345458600-1345485600@staging.miedemaauctioneering.com
SUMMARY:MICHIGAN: Davenport University Golf Classic
DESCRIPTION:Grab your friends and your clubs and join us at the 26th Annual Davenport Scholarship Golf Classic. Your day includes lunch\, golfing at Egypt Valley Country Club\, followed by dinner and a chance to bid on and win great auction items. Dinner tickets may be purchased for those wishing to only participate in dinner and the auction.\nAll proceeds from the event support Davenport University student scholarships. In 24 years\, this event has raised over $1 million dollars. We are grateful to the many sponsors and golfers who have made this possible.\nCost: $250 per golfer or $75 for dinner ticket only\nSponsorship Opportunities available\n10:30 a.m – Registration and Lunch\n12:00 p.m. – Shotgun start\n5:00 p.m. – Dinner\, Auction and Raffle \n
URL:https://staging.miedemaauctioneering.com/auction-calendar/michigan-davenport-university-golf-classic/
LOCATION:Egypt Valley Country Club\, Ada\, MI\, United States
GEO:42.960727;-85.4954803
ATTACH;FMTTYPE=image/jpeg:https://s3.amazonaws.com/miedemaauctioneering/wp-content/uploads/2017/01/19135356/2012_Golf-Logo.jpg
ORGANIZER;CN="Chuck%20Ranney%20-%20Auction%20Manager":MAILTO:chuck@1800lastbid.com
END:VEVENT
END:VCALENDAR