BEGIN:VCALENDAR
VERSION:2.0
PRODID:-//Miedema Auctioneering &amp; Appraisals, Inc. - ECPv4.6.23//NONSGML v1.0//EN
CALSCALE:GREGORIAN
METHOD:PUBLISH
X-WR-CALNAME:Miedema Auctioneering &amp; Appraisals, Inc.
X-ORIGINAL-URL:https://staging.miedemaauctioneering.com
X-WR-CALDESC:Events for Miedema Auctioneering &amp; Appraisals, Inc.
BEGIN:VEVENT
DTSTART;TZID=America/Detroit:20121215T110000
DTEND;TZID=America/Detroit:20121215T180000
DTSTAMP:20260419T130422
CREATED:20170119T162634Z
LAST-MODIFIED:20170119T162634Z
UID:5503-1355569200-1355594400@staging.miedemaauctioneering.com
SUMMARY:MICHIGAN: Clark - Bell Farms LLC
DESCRIPTION:LIVE AUCTION WITH ONLINE BIDDING OPTION!  BELDING\, MICHIGAN:  Farm & Onion Equipment Auction – Saturday\, December 15 – 11AM. Clark – Bell Farms LLC – Bob and Luella Pike and Desmond Pike\, Belding\, MI. Since they are no longer growing onions\,  they will be selling a large amount of excess equipment to the highest bidder. Highlights include (10) Massey Ferguson Tractors – Model 65’s\, 180D\, 1130 plus John Deere 6400\, Oliver\, AC and IHC tractors. JD6620 4WD combine with heads\, JD210C 4×4 loader backhoe\, 2009 Monosem small seed planter – 12 row units\, Shuknecht Onion Harvester – single bed\, plus tillage\, irrigation pipe and pumps\, ‘91 Kenworth\, etc. Also some old vintage muck and breaker plows. \nENTER LIVE AUCTION Auction Brochure Equipment List  Directions \n
URL:https://staging.miedemaauctioneering.com/auction-calendar/michigan-clark-bell-farms-llc/
LOCATION:6461 Jacoby Road\, Belding \, MI\, 48809\, United States
GEO:43.031478;-85.2050121
X-APPLE-STRUCTURED-LOCATION;VALUE=URI;X-ADDRESS=6461 Jacoby Road Belding  MI 48809 United States;X-APPLE-RADIUS=500;X-TITLE=6461 Jacoby Road:geo:-85.2050121,43.031478
ATTACH;FMTTYPE=image/jpeg:https://s3.amazonaws.com/miedemaauctioneering/wp-content/uploads/2017/01/19112456/100_2072.jpg
ORGANIZER;CN="Chuck%20Ranney%20-%20Auction%20Manager":MAILTO:chuck@1800lastbid.com
END:VEVENT
END:VCALENDAR