BEGIN:VCALENDAR
VERSION:2.0
PRODID:-//Miedema Auctioneering &amp; Appraisals, Inc. - ECPv4.6.23//NONSGML v1.0//EN
CALSCALE:GREGORIAN
METHOD:PUBLISH
X-WR-CALNAME:Miedema Auctioneering &amp; Appraisals, Inc.
X-ORIGINAL-URL:https://staging.miedemaauctioneering.com
X-WR-CALDESC:Events for Miedema Auctioneering &amp; Appraisals, Inc.
BEGIN:VEVENT
DTSTART;TZID=America/Detroit:20121009T060000
DTEND;TZID=America/Detroit:20121009T170000
DTSTAMP:20260420T065954
CREATED:20170119T184111Z
LAST-MODIFIED:20170119T184111Z
UID:5577-1349762400-1349802000@staging.miedemaauctioneering.com
SUMMARY:MICHIGAN: Auto Sports Unlimited/Roadmaster Transmission Live Auction with Webcast
DESCRIPTION:Miedema Auctioneering in conjunction with Hilco Industrial. Former Auto Salvage & Reconditioning Operation Specializing in Asian & European Automobile Parts. Featuring: 10 Acre Salvage Yard with Rights to Operate\, Over 1000 Vehicle Bodies\, Rebuild Shop & Inventory. \n
URL:https://staging.miedemaauctioneering.com/auction-calendar/michigan-auto-sports-unlimitedroadmaster-transmission-live-auction-with-webcast/
LOCATION:200 N. Franklin\, Zeeland\, MI\, 49464\, United States
GEO:42.815195;-86.031047
X-APPLE-STRUCTURED-LOCATION;VALUE=URI;X-ADDRESS=200 N. Franklin Zeeland MI 49464 United States;X-APPLE-RADIUS=500;X-TITLE=200 N. Franklin:geo:-86.031047,42.815195
ATTACH;FMTTYPE=image/jpeg:https://s3.amazonaws.com/miedemaauctioneering/wp-content/uploads/2017/01/19134056/D35628BC3DF5440CB7AF9E9A70860828.jpg
ORGANIZER;CN="Chuck%20Ranney%20-%20Auction%20Manager":MAILTO:chuck@1800lastbid.com
END:VEVENT
END:VCALENDAR