BEGIN:VCALENDAR
VERSION:2.0
PRODID:-//Miedema Auctioneering &amp; Appraisals, Inc. - ECPv4.6.23//NONSGML v1.0//EN
CALSCALE:GREGORIAN
METHOD:PUBLISH
X-WR-CALNAME:Miedema Auctioneering &amp; Appraisals, Inc.
X-ORIGINAL-URL:https://staging.miedemaauctioneering.com
X-WR-CALDESC:Events for Miedema Auctioneering &amp; Appraisals, Inc.
BEGIN:VEVENT
DTSTART;TZID=America/Detroit:20120922T130000
DTEND;TZID=America/Detroit:20120922T180000
DTSTAMP:20260420T051745
CREATED:20170119T184543Z
LAST-MODIFIED:20170119T184543Z
UID:5585-1348318800-1348336800@staging.miedemaauctioneering.com
SUMMARY:MICHIGAN: Arrow National Hunt Club Auction
DESCRIPTION:A hunters dream property!! 618 Acres of prime hunting land with 1 mile of Chippewa River Frontage. 3560 square feet equipped lodge which sleeps 21 in comfort log exterior\, large fireplace\, sauna\, commercial kitchen\, laundry\, game room\, foosball hockey\, pool table\, lodge comes fully furnished. Plus additional home\, equipment barn\, observation tower\, four stall horse barn\, three hole island golf course\, pheasant raising pen\, over 50 acres of food plots\, rifle range\, trap house and commercial thrower\, etc. Over 9 miles of commercial road system and bridges through property\, giving access to everywhere. Since 2003\, 7 of the largest bow kills in the county have been off this property. Too many features to list!!! One of Michigan’s premier hunting estates where nothing has been spared. Once in a lifetime opportunity!!!! \n
URL:https://staging.miedemaauctioneering.com/auction-calendar/michigan-arrow-national-hunt-club-auction/
LOCATION:4566 Clareola Dr\, Lake\, MI\, 48632\, United States
GEO:43.8347469;-85.0886601
X-APPLE-STRUCTURED-LOCATION;VALUE=URI;X-ADDRESS=4566 Clareola Dr Lake MI 48632 United States;X-APPLE-RADIUS=500;X-TITLE=4566 Clareola Dr:geo:-85.0886601,43.8347469
ATTACH;FMTTYPE=image/jpeg:https://s3.amazonaws.com/miedemaauctioneering/wp-content/uploads/2017/01/19134536/Mounts-1.jpg
ORGANIZER;CN="Chuck%20Ranney%20-%20Auction%20Manager":MAILTO:chuck@1800lastbid.com
END:VEVENT
END:VCALENDAR