BEGIN:VCALENDAR
VERSION:2.0
PRODID:-//Miedema Auctioneering &amp; Appraisals, Inc. - ECPv4.6.23//NONSGML v1.0//EN
CALSCALE:GREGORIAN
METHOD:PUBLISH
X-WR-CALNAME:Miedema Auctioneering &amp; Appraisals, Inc.
X-ORIGINAL-URL:https://staging.miedemaauctioneering.com
X-WR-CALDESC:Events for Miedema Auctioneering &amp; Appraisals, Inc.
BEGIN:VEVENT
DTSTART;TZID=America/Detroit:20120531T180000
DTEND;TZID=America/Detroit:20120531T190000
DTSTAMP:20260420T122051
CREATED:20170119T191324Z
LAST-MODIFIED:20170119T191324Z
UID:5638-1338487200-1338490800@staging.miedemaauctioneering.com
SUMMARY:MICHIGAN: Arbury Real Estate Auction
DESCRIPTION:PLEASE NOTE: Due to last minute circumstances beyond our control\, Parcel 9 on the survey will not be included in the auction. BY ORDER OF THE US BANKRUPTCY COURT. Approximately 385 acres with 2 houses and several barns being sold by order of the court featuring a fantastic parcels of land with approximately a mile of frontage on the Tittabawassee River with some of the best hunting habitat Michigan has to offer! This property will be offered in several parcels\, combinations of parcels\, or its entirety.  This property has been held by the Arbury family for many years and presents an opportunity to purchase desirable agricultural acreage or hunting land that is very rare to find in the area! Auction will be held at the Midland Resort and Convention Center at 1500 W. Wackerly St.\, Midland\, MI 48640. Bankruptcy Case\, Sam Sweet Trustee. \n
URL:https://staging.miedemaauctioneering.com/auction-calendar/michigan-arbury-real-estate-auction/
LOCATION:1329 Tittabawassee River Road\, Midland\, MI\, 48640\, United States
GEO:43.622798;-84.2904355
X-APPLE-STRUCTURED-LOCATION;VALUE=URI;X-ADDRESS=1329 Tittabawassee River Road Midland MI 48640 United States;X-APPLE-RADIUS=500;X-TITLE=1329 Tittabawassee River Road:geo:-84.2904355,43.622798
ATTACH;FMTTYPE=image/jpeg:https://s3.amazonaws.com/miedemaauctioneering/wp-content/uploads/2017/01/19141217/Arbury-232.jpg
ORGANIZER;CN="Chuck%20Ranney%20-%20Auction%20Manager":MAILTO:chuck@1800lastbid.com
END:VEVENT
END:VCALENDAR