BEGIN:VCALENDAR
VERSION:2.0
PRODID:-//Miedema Auctioneering &amp; Appraisals, Inc. - ECPv4.6.23//NONSGML v1.0//EN
CALSCALE:GREGORIAN
METHOD:PUBLISH
X-WR-CALNAME:Miedema Auctioneering &amp; Appraisals, Inc.
X-ORIGINAL-URL:https://staging.miedemaauctioneering.com
X-WR-CALDESC:Events for Miedema Auctioneering &amp; Appraisals, Inc.
BEGIN:VEVENT
DTSTART;TZID=America/Detroit:20120604T090000
DTEND;TZID=America/Detroit:20120604T180000
DTSTAMP:20260422T102652
CREATED:20170119T190559Z
LAST-MODIFIED:20170119T190559Z
UID:5631-1338800400-1338832800@staging.miedemaauctioneering.com
SUMMARY:MICHIGAN: American Cancer Society West Michigan Golf Classic
DESCRIPTION:Fighting cancer is par for the course at the American Cancer Society West Michigan Golf Classic in memory of Kenneth D. Ellis. This tournament is open to players of all talent\, technique or passion. It will be held Monday\, June 4th at the Blythefield Country Club\, 5801 Northland Drive in Belmont. The day begins with registration and continental breakfast at 9:00am with a shotgun start at 10:00am. In addition to 18 challenging holes of golf at Blythefield Country Club\, participants will enjoy lunch on the course\, a live and silent auction\, 50/50 raffle\, heavy hors’ deoeurves reception and an awards presentation. \n
URL:https://staging.miedemaauctioneering.com/auction-calendar/michigan-american-cancer-society-west-michigan-golf-classic/
LOCATION:5801 North;and Drive\, Belmont\, MI\, 49306\, United States
GEO:43.068168;-85.6092833
X-APPLE-STRUCTURED-LOCATION;VALUE=URI;X-ADDRESS=5801 North;and Drive Belmont MI 49306 United States;X-APPLE-RADIUS=500;X-TITLE=5801 North;and Drive:geo:-85.6092833,43.068168
ORGANIZER;CN="Chuck%20Ranney%20-%20Auction%20Manager":MAILTO:chuck@1800lastbid.com
END:VEVENT
END:VCALENDAR