BEGIN:VCALENDAR
VERSION:2.0
PRODID:-//Miedema Auctioneering &amp; Appraisals, Inc. - ECPv4.6.23//NONSGML v1.0//EN
CALSCALE:GREGORIAN
METHOD:PUBLISH
X-WR-CALNAME:Miedema Auctioneering &amp; Appraisals, Inc.
X-ORIGINAL-URL:https://staging.miedemaauctioneering.com
X-WR-CALDESC:Events for Miedema Auctioneering &amp; Appraisals, Inc.
BEGIN:VEVENT
DTSTART;TZID=America/Detroit:20120607T130000
DTEND;TZID=America/Detroit:20120607T180000
DTSTAMP:20260420T115606
CREATED:20170119T190441Z
LAST-MODIFIED:20170119T190441Z
UID:5626-1339074000-1339092000@staging.miedemaauctioneering.com
SUMMARY:MICHIGAN: (3) Car Washes and Oil/Lube in West Michigan
DESCRIPTION:By order of secured creditor\, Located in Spring Lake\, Fruitport\, and Ferrysburg. Financials for the last 9 months available from court appointed receiver who has been operating the washes. (2) have touchless\, self serve\, and oil/lube\, (1) has touchless\, self serve\, and Laundromat plus additional commercial space to rent out. Excellent opportunity to buy late model car washes! \n
URL:https://staging.miedemaauctioneering.com/auction-calendar/michigan-3-car-washes-and-oillube-in-west-michigan/
LOCATION:Spring Lake\, Fruitport\, Ferrysburg\, MI\, United States
GEO:43.0972367;-86.1757741
ATTACH;FMTTYPE=image/jpeg:https://s3.amazonaws.com/miedemaauctioneering/wp-content/uploads/2017/01/19140433/100_18261.jpg
ORGANIZER;CN="Chuck%20Ranney%20-%20Auction%20Manager":MAILTO:chuck@1800lastbid.com
END:VEVENT
END:VCALENDAR