BEGIN:VCALENDAR
VERSION:2.0
PRODID:-//Miedema Auctioneering &amp; Appraisals, Inc. - ECPv4.6.23//NONSGML v1.0//EN
CALSCALE:GREGORIAN
METHOD:PUBLISH
X-WR-CALNAME:Miedema Auctioneering &amp; Appraisals, Inc.
X-ORIGINAL-URL:https://staging.miedemaauctioneering.com
X-WR-CALDESC:Events for Miedema Auctioneering &amp; Appraisals, Inc.
BEGIN:VEVENT
DTSTART;TZID=America/Detroit:20120509T173000
DTEND;TZID=America/Detroit:20120509T210000
DTSTAMP:20260421T155508
CREATED:20170119T193432Z
LAST-MODIFIED:20170119T193432Z
UID:5662-1336584600-1336597200@staging.miedemaauctioneering.com
SUMMARY:Meijer Great Gardens Party
DESCRIPTION:This annual fundraising event features hors d’oeuvres\, a sit-down dinner\, entertainment and fun! The live and silent auction highlights exciting trips\, unique items as well as plant material for your garden. Our horticulture experts will be on hand to answer any questions about caring for the plants. This enjoyable evening allows us to raise funds needed to further Meijer Gardens’ mission. Tickets are $100 per person. Sponsorship opportunities are also available at $1\,500\, $2\,500 or $5\,000. Please contact Margie Kindel at mkindel@meijergardens.org or 616-975-3168. \n
URL:https://staging.miedemaauctioneering.com/auction-calendar/meijer-great-gardens-party/
LOCATION:1000 East Beltline Avenue NE\, Grand Rapids\, MI\, 49525\, United States
GEO:42.9794445;-85.5897365
X-APPLE-STRUCTURED-LOCATION;VALUE=URI;X-ADDRESS=1000 East Beltline Avenue NE Grand Rapids MI 49525 United States;X-APPLE-RADIUS=500;X-TITLE=1000 East Beltline Avenue NE:geo:-85.5897365,42.9794445
ATTACH;FMTTYPE=image/jpeg:https://s3.amazonaws.com/miedemaauctioneering/wp-content/uploads/2017/01/19143416/FrederikMeijerLogo1.jpg
ORGANIZER;CN="Chuck%20Ranney%20-%20Auction%20Manager":MAILTO:chuck@1800lastbid.com
END:VEVENT
END:VCALENDAR