BEGIN:VCALENDAR
VERSION:2.0
PRODID:-//Miedema Auctioneering &amp; Appraisals, Inc. - ECPv4.6.23//NONSGML v1.0//EN
CALSCALE:GREGORIAN
METHOD:PUBLISH
X-WR-CALNAME:Miedema Auctioneering &amp; Appraisals, Inc.
X-ORIGINAL-URL:https://staging.miedemaauctioneering.com
X-WR-CALDESC:Events for Miedema Auctioneering &amp; Appraisals, Inc.
BEGIN:VEVENT
DTSTART;TZID=America/Detroit:20111107T180000
DTEND;TZID=America/Detroit:20111107T180000
DTSTAMP:20260420T084410
CREATED:20170119T204023Z
LAST-MODIFIED:20170119T204023Z
UID:5738-1320688800-1320688800@staging.miedemaauctioneering.com
SUMMARY:March of Dimes Signature Chefs Auction
DESCRIPTION:DeVos Place Steelcase Ballroom\n303 Monroe Ave. NW\, Grand Rapids\, MI \n6:00 pm Hors d’oeuvres & Silent Auction\n7:30 pm Program Begins/Live Auction \n$125 per person ($75 of the ticket price is tax deductible)\n$1\,750 per corporate table (reserved seating for 10) \nHonorary Chairs: Dr. Alan & Mrs. Hope Margherio\nEvent Chair: Christopher Potter\, Clear Channel \nFor further information or to get involved\, please contact:\nGinger Feldman\, Division Director\, gfeldman@marchofdimes.com\nMarch of Dimes\, 3351 Claystone St. SE\, Suite G20\, Grand Rapids\, MI 49546\nphone 616.247.6861 fax 616.247.6864 \nPurchase tickets online or call Ginger at 616.247.6861 \n
URL:https://staging.miedemaauctioneering.com/auction-calendar/march-of-dimes-signature-chefs-auction/
LOCATION:303 Monroe Ave NW\, Grand Rapids\, MI\, United States
GEO:42.9688429;-85.6721262
X-APPLE-STRUCTURED-LOCATION;VALUE=URI;X-ADDRESS=303 Monroe Ave NW Grand Rapids MI United States;X-APPLE-RADIUS=500;X-TITLE=303 Monroe Ave NW:geo:-85.6721262,42.9688429
ORGANIZER;CN="Chuck%20Ranney%20-%20Auction%20Manager":MAILTO:chuck@1800lastbid.com
END:VEVENT
END:VCALENDAR