BEGIN:VCALENDAR
VERSION:2.0
PRODID:-//Miedema Auctioneering &amp; Appraisals, Inc. - ECPv4.6.23//NONSGML v1.0//EN
CALSCALE:GREGORIAN
METHOD:PUBLISH
X-WR-CALNAME:Miedema Auctioneering &amp; Appraisals, Inc.
X-ORIGINAL-URL:https://staging.miedemaauctioneering.com
X-WR-CALDESC:Events for Miedema Auctioneering &amp; Appraisals, Inc.
BEGIN:VEVENT
DTSTART;TZID=America/Detroit:20110326T100000
DTEND;TZID=America/Detroit:20110326T160000
DTSTAMP:20260419T180854
CREATED:20170120T153516Z
LAST-MODIFIED:20170120T153516Z
UID:5827-1301133600-1301155200@staging.miedemaauctioneering.com
SUMMARY:Large Dairy Farm Equipment Auction (Part of our Annual Hudsonville Fairgrounds Auction)
DESCRIPTION:A large amount of late model\, hard to find dairy equipment featuring (3) Manure scraping/vacuum systems – Massey Ferguson 563 with USA Vacuum Tanker model BC 2200\, (6) USA 7000 and 8000gal manure tanks\, (2) USA 2000 CF Triaxle silage push carts\, 2005 Claas Jaguar 900 forage harvester \,2008 Cat Challenger MT955B 4WD Tractor\,  (9) Massey Ferguson 8450MFWD Tractors\, Plus much more. All selling for secured creditor- No Minimums – No Reserves! \nENTER LIVE AUCTION Dairy/Farm Equipment Auction Catalog **UPDATED at 3PM 3/25** Late Additions \n
URL:https://staging.miedemaauctioneering.com/auction-calendar/large-dairy-farm-equipment-auction-part-of-our-annual-hudsonville-fairgrounds-auction/
LOCATION:5235 Park Avenue\, Hudsonville\, MI\, 49426\, United States
GEO:42.8637244;-85.8783007
X-APPLE-STRUCTURED-LOCATION;VALUE=URI;X-ADDRESS=5235 Park Avenue Hudsonville MI 49426 United States;X-APPLE-RADIUS=500;X-TITLE=5235 Park Avenue:geo:-85.8783007,42.8637244
ORGANIZER;CN="Chuck%20Ranney%20-%20Auction%20Manager":MAILTO:chuck@1800lastbid.com
END:VEVENT
END:VCALENDAR