BEGIN:VCALENDAR
VERSION:2.0
PRODID:-//Miedema Auctioneering &amp; Appraisals, Inc. - ECPv4.6.23//NONSGML v1.0//EN
CALSCALE:GREGORIAN
METHOD:PUBLISH
X-WR-CALNAME:Miedema Auctioneering &amp; Appraisals, Inc.
X-ORIGINAL-URL:https://staging.miedemaauctioneering.com
X-WR-CALDESC:Events for Miedema Auctioneering &amp; Appraisals, Inc.
BEGIN:VEVENT
DTSTART;TZID=America/Detroit:20110622T190000
DTEND;TZID=America/Detroit:20110622T200000
DTSTAMP:20260420T103135
CREATED:20170120T151209Z
LAST-MODIFIED:20170120T151209Z
UID:5803-1308769200-1308772800@staging.miedemaauctioneering.com
SUMMARY:LAND AUCTION - Weber Estate
DESCRIPTION:Land Auction\, Burnips\, MI – Wednesday\, June 22\, 7PM. In order to settle the Eldon L. Weber Estate\, we will be selling 40 beautiful acres of land located 1 mile south of Burnips at 2935 140th. Offered in (4) 10 acre parcels\, in its entirety\, or in any combination of parcels. Wooded with large beautiful trees these parcels make peaceful\, secluded building sites in a great location. \nAuction Brochure \n
URL:https://staging.miedemaauctioneering.com/auction-calendar/land-auction-weber-estate/
LOCATION:2935 140th \, Burnips\, MI\, 49314\, United States
ORGANIZER;CN="Chuck%20Ranney%20-%20Auction%20Manager":MAILTO:chuck@1800lastbid.com
END:VEVENT
END:VCALENDAR