BEGIN:VCALENDAR
VERSION:2.0
PRODID:-//Miedema Auctioneering &amp; Appraisals, Inc. - ECPv4.6.23//NONSGML v1.0//EN
CALSCALE:GREGORIAN
METHOD:PUBLISH
X-WR-CALNAME:Miedema Auctioneering &amp; Appraisals, Inc.
X-ORIGINAL-URL:https://staging.miedemaauctioneering.com
X-WR-CALDESC:Events for Miedema Auctioneering &amp; Appraisals, Inc.
BEGIN:VEVENT
DTSTART;TZID=America/Detroit:20120523T180000
DTEND;TZID=America/Detroit:20120523T190000
DTSTAMP:20260420T140517
CREATED:20170119T191447Z
LAST-MODIFIED:20170119T191447Z
UID:5642-1337796000-1337799600@staging.miedemaauctioneering.com
SUMMARY:Land Auction - Caledonia\, MI
DESCRIPTION:65 Beautiful acres in Caledonia Township offered in 3 parcels\, from 10 acres and up or in it’s entirety as a whole. Beautiful building sites currently used as farm land. Features ponds\, creek\, and wildlife. All in one convenient location\, close to Caledonia schools. Outstanding opportunity. All will sell to the highest bidder. \n
URL:https://staging.miedemaauctioneering.com/auction-calendar/land-auction-caledonia-mi/
LOCATION:5338 100th St\, Caledonia \, MI\, 49316\, United States
GEO:42.779092;-85.535066
X-APPLE-STRUCTURED-LOCATION;VALUE=URI;X-ADDRESS=5338 100th St Caledonia  MI 49316 United States;X-APPLE-RADIUS=500;X-TITLE=5338 100th St:geo:-85.535066,42.779092
ATTACH;FMTTYPE=image/jpeg:https://s3.amazonaws.com/miedemaauctioneering/wp-content/uploads/2017/01/19141440/IMG_86941.jpg
ORGANIZER;CN="Chuck%20Ranney%20-%20Auction%20Manager":MAILTO:chuck@1800lastbid.com
END:VEVENT
END:VCALENDAR