BEGIN:VCALENDAR
VERSION:2.0
PRODID:-//Miedema Auctioneering &amp; Appraisals, Inc. - ECPv4.6.23//NONSGML v1.0//EN
CALSCALE:GREGORIAN
METHOD:PUBLISH
X-WR-CALNAME:Miedema Auctioneering &amp; Appraisals, Inc.
X-ORIGINAL-URL:https://staging.miedemaauctioneering.com
X-WR-CALDESC:Events for Miedema Auctioneering &amp; Appraisals, Inc.
BEGIN:VEVENT
DTSTART;TZID=America/Detroit:20120913T180000
DTEND;TZID=America/Detroit:20120913T190000
DTSTAMP:20260419T234723
CREATED:20170119T184936Z
LAST-MODIFIED:20170119T184936Z
UID:5593-1347559200-1347562800@staging.miedemaauctioneering.com
SUMMARY:Land and Home Auction -Gertrude Hop Trust
DESCRIPTION:Farm land and prime U.S. 31 frontage with commercial zoning. 44 acres with frontage on 3 roads in Olive Township\, Ottawa Co.. Offered in 4 parcels\, in its entirety\, or in any combination of parcels. Includes home\, small wooded parcel\, and good farm land. All will sell to the highest bidder – No Minimums – No Reserves. \n
URL:https://staging.miedemaauctioneering.com/auction-calendar/land-and-home-auction-gertrude-hop-trust/
LOCATION:13331 Van Buren\, Holland\, MI\, 49424\, United States
GEO:42.8706691;-86.1122187
X-APPLE-STRUCTURED-LOCATION;VALUE=URI;X-ADDRESS=13331 Van Buren Holland MI 49424 United States;X-APPLE-RADIUS=500;X-TITLE=13331 Van Buren:geo:-86.1122187,42.8706691
ATTACH;FMTTYPE=image/jpeg:https://s3.amazonaws.com/miedemaauctioneering/wp-content/uploads/2017/01/19134930/100_1980.jpg
ORGANIZER;CN="Chuck%20Ranney%20-%20Auction%20Manager":MAILTO:chuck@1800lastbid.com
END:VEVENT
END:VCALENDAR