BEGIN:VCALENDAR
VERSION:2.0
PRODID:-//Miedema Auctioneering &amp; Appraisals, Inc. - ECPv4.6.23//NONSGML v1.0//EN
CALSCALE:GREGORIAN
METHOD:PUBLISH
X-WR-CALNAME:Miedema Auctioneering &amp; Appraisals, Inc.
X-ORIGINAL-URL:https://staging.miedemaauctioneering.com
X-WR-CALDESC:Events for Miedema Auctioneering &amp; Appraisals, Inc.
BEGIN:VEVENT
DTSTART;TZID=America/Detroit:20110720T180000
DTEND;TZID=America/Detroit:20110720T190000
DTSTAMP:20260419T184515
CREATED:20170120T150734Z
LAST-MODIFIED:20170120T150734Z
UID:5794-1311184800-1311188400@staging.miedemaauctioneering.com
SUMMARY:Home & 114 acres in Sand Lake\, MI
DESCRIPTION:A newer 3 bedroom walk-out ranch home with pole barn and 112 acres to be offered in several parcels ranging from 5 – 40 acres.  This property has been owned and enjoyed by Lyle and Delores Powell for many years and now must be sold to settle their divorce estate.   Parcels will be offered individually\, in combination\, or the entirety.  The home and barns are only about 10 years old.  The land is approximately 80% tillable and 20% wooded.  The vacant land has historically had very good crop yields.  The woods are primarily maple\, cherry\, beech\, and other hardwoods and have been on a 7 year select cut schedule\, yielding a regular income stream as well.  In addition\, there are pockets of gravel\, a stocked fish pond on the property\, and some of the best deer hunting in Kent County!   This is a rare opportunity to purchase a beautiful piece of productive real estate that you won’t want to miss! Auction will be held at Village of Pierson\, 190 Grand St\, Pierson\, MI \nAuction Brochure \n
URL:https://staging.miedemaauctioneering.com/auction-calendar/home-114-acres-in-sand-lake-mi/
LOCATION:16755 Penny Ave\, Sand Lake\, MI\, United States
GEO:43.270167;-85.39961
X-APPLE-STRUCTURED-LOCATION;VALUE=URI;X-ADDRESS=16755 Penny Ave Sand Lake MI United States;X-APPLE-RADIUS=500;X-TITLE=16755 Penny Ave:geo:-85.39961,43.270167
ORGANIZER;CN="Chuck%20Ranney%20-%20Auction%20Manager":MAILTO:chuck@1800lastbid.com
END:VEVENT
END:VCALENDAR