BEGIN:VCALENDAR
VERSION:2.0
PRODID:-//Miedema Auctioneering &amp; Appraisals, Inc. - ECPv4.6.23//NONSGML v1.0//EN
CALSCALE:GREGORIAN
METHOD:PUBLISH
X-WR-CALNAME:Miedema Auctioneering &amp; Appraisals, Inc.
X-ORIGINAL-URL:https://staging.miedemaauctioneering.com
X-WR-CALDESC:Events for Miedema Auctioneering &amp; Appraisals, Inc.
BEGIN:VEVENT
DTSTART;TZID=America/Detroit:20101109T100000
DTEND;TZID=America/Detroit:20101109T180000
DTSTAMP:20260419T175632
CREATED:20170120T175458Z
LAST-MODIFIED:20170120T175458Z
UID:5871-1289296800-1289325600@staging.miedemaauctioneering.com
SUMMARY:Heystek & Sons Inc.\,
DESCRIPTION:After 113 years and 3 generations\, the owner of Heystek & Son’s\, Inc. has decided to retire and is completely liquidating their equipment. This is the kind of auction you want to buy at\, a midsize contractor that took great care of his equipment! Everything will be sold to the highest bidder with no minimums and no reserves. Highlights include Peterbilt quad axle dump\, Ford tri-axle dump\, (2) Ford tandem axle dumps\, tank trucks\, 20-Ton trailer\, 10-ton trailer\, Bomag BW120 Roller\, Fergusan Roller\, Rotomill planer attachment\, grader attachment\, sweeper attachment\, Layton Paver\, and several support tools. \nENTER LIVE AUCTION Auction Catalog Auction Brochure  \n
URL:https://staging.miedemaauctioneering.com/auction-calendar/heystek-sons-inc/
LOCATION:6811 West KL AVe\, Kalamazoo\, MI\, 49009\, United States
GEO:42.281056;-85.68439
X-APPLE-STRUCTURED-LOCATION;VALUE=URI;X-ADDRESS=6811 West KL AVe Kalamazoo MI 49009 United States;X-APPLE-RADIUS=500;X-TITLE=6811 West KL AVe:geo:-85.68439,42.281056
ORGANIZER;CN="Chuck%20Ranney%20-%20Auction%20Manager":MAILTO:chuck@1800lastbid.com
END:VEVENT
END:VCALENDAR