BEGIN:VCALENDAR
VERSION:2.0
PRODID:-//Miedema Auctioneering &amp; Appraisals, Inc. - ECPv4.6.23//NONSGML v1.0//EN
CALSCALE:GREGORIAN
METHOD:PUBLISH
X-WR-CALNAME:Miedema Auctioneering &amp; Appraisals, Inc.
X-ORIGINAL-URL:https://staging.miedemaauctioneering.com
X-WR-CALDESC:Events for Miedema Auctioneering &amp; Appraisals, Inc.
BEGIN:VEVENT
DTSTART;TZID=America/Detroit:20140425T080000
DTEND;TZID=America/Detroit:20140425T180000
DTSTAMP:20260419T144612
CREATED:20170106T150659Z
LAST-MODIFIED:20170111T215228Z
UID:4944-1398412800-1398448800@staging.miedemaauctioneering.com
SUMMARY:Georgetown CRC
DESCRIPTION:
URL:https://staging.miedemaauctioneering.com/auction-calendar/georgetown-crc/
CATEGORIES:Live Auction
ORGANIZER;CN="Chuck%20Ranney%20-%20Auction%20Manager":MAILTO:chuck@1800lastbid.com
END:VEVENT
END:VCALENDAR