BEGIN:VCALENDAR
VERSION:2.0
PRODID:-//Miedema Auctioneering &amp; Appraisals, Inc. - ECPv4.6.23//NONSGML v1.0//EN
CALSCALE:GREGORIAN
METHOD:PUBLISH
X-WR-CALNAME:Miedema Auctioneering &amp; Appraisals, Inc.
X-ORIGINAL-URL:https://staging.miedemaauctioneering.com
X-WR-CALDESC:Events for Miedema Auctioneering &amp; Appraisals, Inc.
BEGIN:VEVENT
DTSTART;TZID=America/Detroit:20100921T123000
DTEND;TZID=America/Detroit:20100921T180000
DTSTAMP:20260419T115044
CREATED:20170120T192028Z
LAST-MODIFIED:20170120T192028Z
UID:5901-1285072200-1285092000@staging.miedemaauctioneering.com
SUMMARY:Former Denhartigh Greenhouses
DESCRIPTION:Auction will be held live at the greenhouses or via webcast (real time bidding from the comfort of your home/office) with no minimums or reserves.  Highlights include:  Kubota L235 Ag Tractor\, (3) Johns BN Forklift Tractor Conversions\, Allis Chalmers Ag Tractor\, Winpower Generator\, Niagara Needle Type Flat Seeder\, 2000 GMC 6500 Box Truck\, Dramm LV Sprayer\, Dosamatic Portable Chemical Injector\, plus other assorted equipment.  Please Note:  This auction will be conducted following Bell Greenhouse Auction. \nENTER LIVE AUCTION Auction Brochure \n
URL:https://staging.miedemaauctioneering.com/auction-calendar/former-denhartigh-greenhouses/
LOCATION:Denhartigh Greenhouses\, 5274 Market Street\, Kalamazoo\, MI\, 49007\, United States
GEO:42.2774881;-85.5260639
X-APPLE-STRUCTURED-LOCATION;VALUE=URI;X-ADDRESS=Denhartigh Greenhouses 5274 Market Street Kalamazoo MI 49007 United States;X-APPLE-RADIUS=500;X-TITLE=5274 Market Street:geo:-85.5260639,42.2774881
ORGANIZER;CN="Chuck%20Ranney%20-%20Auction%20Manager":MAILTO:chuck@1800lastbid.com
END:VEVENT
END:VCALENDAR