BEGIN:VCALENDAR
VERSION:2.0
PRODID:-//Miedema Auctioneering &amp; Appraisals, Inc. - ECPv4.6.23//NONSGML v1.0//EN
CALSCALE:GREGORIAN
METHOD:PUBLISH
X-WR-CALNAME:Miedema Auctioneering &amp; Appraisals, Inc.
X-ORIGINAL-URL:https://staging.miedemaauctioneering.com
X-WR-CALDESC:Events for Miedema Auctioneering &amp; Appraisals, Inc.
BEGIN:VEVENT
DTSTART;TZID=America/Detroit:20180808T080000
DTEND;TZID=America/Detroit:20180808T233000
DTSTAMP:20260419T115505
CREATED:20180702T164142Z
LAST-MODIFIED:20180723T172008Z
UID:12582-1533715200-1533771000@staging.miedemaauctioneering.com
SUMMARY:Farm Equipment Auction - Steve and Ethan Tjapkes of Lowell\, MI
DESCRIPTION:\n\n \nDescription:\nFarm equipment Auction\, Wed\, Aug 8. Having decided to discontinue dairy farming\, Steve and Ethan Tjapkes of Lowell\, MI will be selling their farming equipment.  \nEquipment will be located at our Repocast facility\, 3450 12th St\, Wayland\, MI.  \nHighlights include: Claas Jaguar 870 Chopper with RU 600 corn and PU 380 HD hay heads\, John Deere 8300 MFWD\, John Deere 4650 MFWD\, JD 750 drill\, plus trucks\, trailers\, tillage etc. \n\n\nENTER AUCTION\nRegister to Bid Online \nAuction Brochure \n  \nAuction Photos: \n\n\n
URL:https://staging.miedemaauctioneering.com/auction-calendar/farm-equipment-auction-steve-and-ethan-tjapkes-of-lowell-mi/
LOCATION:Repocast.com Wayland\, 3450 12th Street\, Wayland\, MI\, 49348\, United States
GEO:42.671631;-85.661909
X-APPLE-STRUCTURED-LOCATION;VALUE=URI;X-ADDRESS=Repocast.com Wayland 3450 12th Street Wayland MI 49348 United States;X-APPLE-RADIUS=500;X-TITLE=3450 12th Street:geo:-85.661909,42.671631
CATEGORIES:Online Only Auction
ATTACH;FMTTYPE=image/jpeg:https://s3.amazonaws.com/miedemaauctioneering/wp-content/uploads/2018/07/05092311/IMG_7999.jpg
ORGANIZER;CN="Dave%20VanEe%20-%20Operations%20Manager":MAILTO:dvanee@orbitbid.com
END:VEVENT
END:VCALENDAR