BEGIN:VCALENDAR
VERSION:2.0
PRODID:-//Miedema Auctioneering &amp; Appraisals, Inc. - ECPv4.6.23//NONSGML v1.0//EN
CALSCALE:GREGORIAN
METHOD:PUBLISH
X-WR-CALNAME:Miedema Auctioneering &amp; Appraisals, Inc.
X-ORIGINAL-URL:https://staging.miedemaauctioneering.com
X-WR-CALDESC:Events for Miedema Auctioneering &amp; Appraisals, Inc.
BEGIN:VEVENT
DTSTART;TZID=America/Detroit:20150826T080000
DTEND;TZID=America/Detroit:20150826T140000
DTSTAMP:20260421T090411
CREATED:20161228T155405Z
LAST-MODIFIED:20170119T191711Z
UID:4678-1440576000-1440597600@staging.miedemaauctioneering.com
SUMMARY:Commercial Real Estate Auction selling on LASTBIDrealestate.com
DESCRIPTION:By order of U.S. Bankruptcy Court\, Western District of Missouri\, Case # 15-60181-abf11\, we will be selling via online bidding auction 6 real estate properties located in the following cities in Missouri and Arkansas: West Plains\, MO; Willow Springs\, MO; Mountain Home\, AR; Mountain View\, AR; Hardy\, AR. These properties were formerly used for commercial use and include buildings and acreage anywhere between 5 and 53 acres. Outstanding opportunity to buy! Auction held in conjunction with Reich Brothers and Miedema Auctioneering\, Inc. \nENTER LIVE AUCTION \n
URL:https://staging.miedemaauctioneering.com/auction-calendar/commercial-real-estate-auction-selling-on-lastbidrealestate-com/
LOCATION:Commercial Real Estate Auction\, MO\, United States
GEO:37.9642529;-91.8318334
CATEGORIES:Live Real Estate Auction
ORGANIZER;CN="Chuck%20Ranney%20-%20Auction%20Manager":MAILTO:chuck@1800lastbid.com
END:VEVENT
END:VCALENDAR