BEGIN:VCALENDAR
VERSION:2.0
PRODID:-//Miedema Auctioneering &amp; Appraisals, Inc. - ECPv4.6.23//NONSGML v1.0//EN
CALSCALE:GREGORIAN
METHOD:PUBLISH
X-WR-CALNAME:Miedema Auctioneering &amp; Appraisals, Inc.
X-ORIGINAL-URL:https://staging.miedemaauctioneering.com
X-WR-CALDESC:Events for Miedema Auctioneering &amp; Appraisals, Inc.
BEGIN:VEVENT
DTSTART;TZID=America/Detroit:20121010T110000
DTEND;TZID=America/Detroit:20121010T123000
DTSTAMP:20260420T005656
CREATED:20170119T183214Z
LAST-MODIFIED:20170119T183214Z
UID:5570-1349866800-1349872200@staging.miedemaauctioneering.com
SUMMARY:CJ Mini Storage Auction
DESCRIPTION:All personal property contained in the following locked storage units at CJ Mini Storage is subject to liens as a result of unpaid storage fees and will be sold by auction as permitted under the Michigan Self-Service Storage Facility Act. Potential bidders are requested to register for the auction at 10 AM. The auction will begin at 11 AM.  The auction will occur on October 10\, 2012\, at CJ Mini Storage located at 1505 2nd Ave\, South Haven\, MI 49090. Potential bidders are requested to register for the auction at 10 AM. The auction will begin at 11 AM. The storage units will remain locked until the date of the auction; no prior access to the contents by potential bidders will be granted. Each storage unit will be unlocked shortly before it is auctioned to permit potential bidders a limited viewing of the contents. Any time before the auction\, tenants may redeem their personal property by paying all amounts due. All purchases must be paid for in cash immediately after you are the winning bidder\, winning bidder is responsible for removal. Questions concerning the auction may be addressed to Chuck Ranney\, Miedema Auctioneering\, Inc.\, 601 Gordon Industrial Ct\, Byron Center\, MI 49315\, 800-527-8243 Ext. 1106. \n
URL:https://staging.miedemaauctioneering.com/auction-calendar/cj-mini-storage-auction/
LOCATION:1505 2nd Ave \, South Haven\, MI\, 49090\, United States
GEO:42.4109662;-86.2510412
X-APPLE-STRUCTURED-LOCATION;VALUE=URI;X-ADDRESS=1505 2nd Ave  South Haven MI 49090 United States;X-APPLE-RADIUS=500;X-TITLE=1505 2nd Ave:geo:-86.2510412,42.4109662
ATTACH;FMTTYPE=image/jpeg:https://s3.amazonaws.com/miedemaauctioneering/wp-content/uploads/2017/01/19133208/storage_unit.jpg
ORGANIZER;CN="Chuck%20Ranney%20-%20Auction%20Manager":MAILTO:chuck@1800lastbid.com
END:VEVENT
END:VCALENDAR