BEGIN:VCALENDAR
VERSION:2.0
PRODID:-//Miedema Auctioneering &amp; Appraisals, Inc. - ECPv4.6.23//NONSGML v1.0//EN
CALSCALE:GREGORIAN
METHOD:PUBLISH
X-WR-CALNAME:Miedema Auctioneering &amp; Appraisals, Inc.
X-ORIGINAL-URL:https://staging.miedemaauctioneering.com
X-WR-CALDESC:Events for Miedema Auctioneering &amp; Appraisals, Inc.
BEGIN:VEVENT
DTSTART;TZID=America/Detroit:20100619T140000
DTEND;TZID=America/Detroit:20100619T180000
DTSTAMP:20260419T131309
CREATED:20170120T194717Z
LAST-MODIFIED:20170120T194717Z
UID:5930-1276956000-1276970400@staging.miedemaauctioneering.com
SUMMARY:ChildHelp 10th Anniversary Auction
DESCRIPTION:Childhelp is celebrating its 10th Anniversary in Michigan\, meeting the physical\, emotional\, educational and spiritual needs of abused and neglected children. Join us on Saturday\, June 19\, 2010 in Birmingham\, Michigan to Celebrate the Child\, Celebrate Michigan. \n
URL:https://staging.miedemaauctioneering.com/auction-calendar/childhelp-10th-anniversary-auction/
LOCATION:100 Townsend Street\, Birmingham\, MI\, United States
GEO:37.09024;-95.712891
ORGANIZER;CN="Chuck%20Ranney%20-%20Auction%20Manager":MAILTO:chuck@1800lastbid.com
END:VEVENT
END:VCALENDAR