BEGIN:VCALENDAR
VERSION:2.0
PRODID:-//Miedema Auctioneering &amp; Appraisals, Inc. - ECPv4.6.23//NONSGML v1.0//EN
CALSCALE:GREGORIAN
METHOD:PUBLISH
X-WR-CALNAME:Miedema Auctioneering &amp; Appraisals, Inc.
X-ORIGINAL-URL:https://staging.miedemaauctioneering.com
X-WR-CALDESC:Events for Miedema Auctioneering &amp; Appraisals, Inc.
BEGIN:VEVENT
DTSTART;TZID=America/Detroit:20101028T173000
DTEND;TZID=America/Detroit:20101028T180000
DTSTAMP:20260419T180003
CREATED:20170120T190927Z
LAST-MODIFIED:20170120T190927Z
UID:5886-1288287000-1288288800@staging.miedemaauctioneering.com
SUMMARY:Celebrity Art Auction Gala
DESCRIPTION:The American Diabetes Association’s Celebrity Art Auction Gala is a unique formal event that unites people from the medical\, corporate\, civic\, entertainment\, and sports worlds with prominent local and national artists in support of the fight against diabetes. \nEach artist and celebrity agrees to create an exclusive work of art through\, but not limited to the mediums of watercolor\, oil\, acrylic\, glass\, photography\, mixed-media or sculpture. The collaborative pieces are auctioned at the Gala along with work donated by each participating artist. Our youth ambassador\, 11-year-old Donovan of Fennville who lives each day with Type 1 diabetes\, will also create a unique piece that will be included in the auction.\nThursday\, October 28\, 2010\n5:30 p.m. V.I.P reception-meet the celebrities and artists\n6:30 p.m. – Cocktails and Silent Auction; 7:00 p.m. – Dinner and Program \n
URL:https://staging.miedemaauctioneering.com/auction-calendar/celebrity-art-auction-gala/
LOCATION:Frederik Meijer Gardens and Sculpture Park\, United States
GEO:37.09024;-95.712891
ORGANIZER;CN="Chuck%20Ranney%20-%20Auction%20Manager":MAILTO:chuck@1800lastbid.com
END:VEVENT
END:VCALENDAR