BEGIN:VCALENDAR
VERSION:2.0
PRODID:-//Miedema Auctioneering &amp; Appraisals, Inc. - ECPv4.6.23//NONSGML v1.0//EN
CALSCALE:GREGORIAN
METHOD:PUBLISH
X-WR-CALNAME:Miedema Auctioneering &amp; Appraisals, Inc.
X-ORIGINAL-URL:https://staging.miedemaauctioneering.com
X-WR-CALDESC:Events for Miedema Auctioneering &amp; Appraisals, Inc.
BEGIN:VEVENT
DTSTART;TZID=America/Detroit:20140508T100000
DTEND;TZID=America/Detroit:20140508T180000
DTSTAMP:20260419T203513
CREATED:20170106T144714Z
LAST-MODIFIED:20170111T215210Z
UID:4934-1399543200-1399572000@staging.miedemaauctioneering.com
SUMMARY:Blueberry Harvester Manufacturer Liquidation
DESCRIPTION:Complete liquidation of a longtime Blueberry Harvester Manufacturer. Featuring: BEI Model 3000 Partially Built Harvester (Nearly Complete – Needs Engine)\, Other Harvesters in various stages of production\, huge variety and amounts of parts\, accessories\, shop tools\, complete metalworking shop (Including Hurco Hawk5-SSM CNC Vertical Milling Machine & Wysong & Miles 1072 Plate Shear\, plus much more) used to produce the blueberry harvesters\, stake trucks\, vans\, etc\, & more!\n***PLEASE NOTE: THE BEI 1600 Harvester is no longer available for bidding\, this item has been removed from the auction.*** \nENTER LIVE AUCTION Auction Catalog Auction Brochure \n
URL:https://staging.miedemaauctioneering.com/auction-calendar/blueberry-harvester-manufacturer-liquidation/
LOCATION:1375 Kalamazoo Ave\, South Haven\, MI\, 49090\, United States
GEO:42.3854892;-86.2755928
X-APPLE-STRUCTURED-LOCATION;VALUE=URI;X-ADDRESS=1375 Kalamazoo Ave South Haven MI 49090 United States;X-APPLE-RADIUS=500;X-TITLE=1375 Kalamazoo Ave:geo:-86.2755928,42.3854892
CATEGORIES:Live and Online Webcast Auction
ATTACH;FMTTYPE=image/jpeg:https://s3.amazonaws.com/miedemaauctioneering/wp-content/uploads/2017/01/06094609/Blueberry-harvester.jpg
ORGANIZER;CN="Chuck%20Ranney%20-%20Auction%20Manager":MAILTO:chuck@1800lastbid.com
END:VEVENT
END:VCALENDAR