BEGIN:VCALENDAR
VERSION:2.0
PRODID:-//Miedema Auctioneering &amp; Appraisals, Inc. - ECPv4.6.23//NONSGML v1.0//EN
CALSCALE:GREGORIAN
METHOD:PUBLISH
X-WR-CALNAME:Miedema Auctioneering &amp; Appraisals, Inc.
X-ORIGINAL-URL:https://staging.miedemaauctioneering.com
X-WR-CALDESC:Events for Miedema Auctioneering &amp; Appraisals, Inc.
BEGIN:VEVENT
DTSTART;TZID=America/Detroit:20120908T173000
DTEND;TZID=America/Detroit:20120908T230000
DTSTAMP:20260419T215724
CREATED:20170119T185114Z
LAST-MODIFIED:20170119T185114Z
UID:5597-1347125400-1347145200@staging.miedemaauctioneering.com
SUMMARY:Benefit & Fundraiser Auction for Officer Bill Olenzuk
DESCRIPTION:Officer Olenzuk is a 49 year old Police Officer for City of Kentwood. Officer Olenzuk is the sole income provider for his wife Kim and three children. Officer Olenzuk has been diagnosed with\, and is battling pancreatic cancer. Officer Olenzuk has been undergroing treatments to combat the cancerous tumor\, and has been unable to work.\nAll donations will be raffled off either by silent\, or live auction\, and the proceeds of the raffle and benefit given to Officer Olenzuk and his family. Any monetary contributions or donations may be made at any Mercantile Bank\, to the account benefiting Officer Bill Olenzuk. \n
URL:https://staging.miedemaauctioneering.com/auction-calendar/benefit-fundraiser-auction-for-officer-bill-olenzuk/
LOCATION:520 Myrtle NE \, Grand Rapids\, MI\, 49504\, United States
GEO:42.988566;-85.6808815
X-APPLE-STRUCTURED-LOCATION;VALUE=URI;X-ADDRESS=520 Myrtle NE  Grand Rapids MI 49504 United States;X-APPLE-RADIUS=500;X-TITLE=520 Myrtle NE:geo:-85.6808815,42.988566
ORGANIZER;CN="Chuck%20Ranney%20-%20Auction%20Manager":MAILTO:chuck@1800lastbid.com
END:VEVENT
END:VCALENDAR