BEGIN:VCALENDAR
VERSION:2.0
PRODID:-//Miedema Auctioneering &amp; Appraisals, Inc. - ECPv4.6.23//NONSGML v1.0//EN
CALSCALE:GREGORIAN
METHOD:PUBLISH
X-WR-CALNAME:Miedema Auctioneering &amp; Appraisals, Inc.
X-ORIGINAL-URL:https://staging.miedemaauctioneering.com
X-WR-CALDESC:Events for Miedema Auctioneering &amp; Appraisals, Inc.
BEGIN:VEVENT
DTSTART;TZID=America/Detroit:20130827T100000
DTEND;TZID=America/Detroit:20130827T180000
DTSTAMP:20260419T120553
CREATED:20170113T144845Z
LAST-MODIFIED:20170116T181603Z
UID:5320-1377597600-1377626400@staging.miedemaauctioneering.com
SUMMARY:A&O Equipment (Apiaries & Orchard Forklift\, Inc.) Auction
DESCRIPTION:Dean Voss has decided to retire and has contracted Miedema Auctioneering to liquidate the remaining assets of A & O Equipment at live auction with internet bidding on August 27\, 2013 at 10 am.  Highlights include a Swinger 200 forklift\, 2009 Nissan model MP1F1A20LV forklift\, a 1992 Kenworth T600 tandem axle roll-off bed truck\, a 1997 Ford Mustang Cobra SVT 2 door coupe\, Trailers\, Skid Steer Attachments\,  Buckets\, Shop Equipment and Tools\, Pallet Racking\,  plus much\, much more.  Don’t miss this great opportunity. \nENTER LIVE AUCTION Auction Catalog Auction Brochure \n
URL:https://staging.miedemaauctioneering.com/auction-calendar/ao-equipment-apiaries-orchard-forklift-inc-auction/
LOCATION:7948 N. Sheridan Rd\, Edmore\, MI\, 48829\, United States
GEO:43.4071932;-85.0847082
X-APPLE-STRUCTURED-LOCATION;VALUE=URI;X-ADDRESS=7948 N. Sheridan Rd Edmore MI 48829 United States;X-APPLE-RADIUS=500;X-TITLE=7948 N. Sheridan Rd:geo:-85.0847082,43.4071932
CATEGORIES:Live and Online Webcast Auction
ATTACH;FMTTYPE=image/jpeg:https://s3.amazonaws.com/miedemaauctioneering/wp-content/uploads/2017/01/13094717/hiFEATURED1.jpg
ORGANIZER;CN="Chuck%20Ranney%20-%20Auction%20Manager":MAILTO:chuck@1800lastbid.com
END:VEVENT
END:VCALENDAR