BEGIN:VCALENDAR
VERSION:2.0
PRODID:-//Miedema Auctioneering &amp; Appraisals, Inc. - ECPv4.6.23//NONSGML v1.0//EN
CALSCALE:GREGORIAN
METHOD:PUBLISH
X-WR-CALNAME:Miedema Auctioneering &amp; Appraisals, Inc.
X-ORIGINAL-URL:https://staging.miedemaauctioneering.com
X-WR-CALDESC:Events for Miedema Auctioneering &amp; Appraisals, Inc.
BEGIN:VEVENT
DTSTART;TZID=America/Detroit:20101112T190000
DTEND;TZID=America/Detroit:20101112T210000
DTSTAMP:20260419T162322
CREATED:20170120T175118Z
LAST-MODIFIED:20170120T175118Z
UID:5868-1289588400-1289595600@staging.miedemaauctioneering.com
SUMMARY:Adams Christian School Live Charity Auction
DESCRIPTION:All The proceeds for this auction will go to Adams Christian School for educational supplies and services that directly benefit Adams Christian Students. \n
URL:https://staging.miedemaauctioneering.com/auction-calendar/adams-christian-school-live-charity-auction/
LOCATION:5539 Byron Center Ave SW\, Wyoming \, MI\, 49519\, United States
GEO:42.864071;-85.7238253
X-APPLE-STRUCTURED-LOCATION;VALUE=URI;X-ADDRESS=5539 Byron Center Ave SW Wyoming  MI 49519 United States;X-APPLE-RADIUS=500;X-TITLE=5539 Byron Center Ave SW:geo:-85.7238253,42.864071
ORGANIZER;CN="Chuck%20Ranney%20-%20Auction%20Manager":MAILTO:chuck@1800lastbid.com
END:VEVENT
END:VCALENDAR