BEGIN:VCALENDAR
VERSION:2.0
PRODID:-//Miedema Auctioneering &amp; Appraisals, Inc. - ECPv4.6.23//NONSGML v1.0//EN
CALSCALE:GREGORIAN
METHOD:PUBLISH
X-WR-CALNAME:Miedema Auctioneering &amp; Appraisals, Inc.
X-ORIGINAL-URL:https://staging.miedemaauctioneering.com
X-WR-CALDESC:Events for Miedema Auctioneering &amp; Appraisals, Inc.
BEGIN:VEVENT
DTSTART;TZID=America/Detroit:20121009T080000
DTEND;TZID=America/Detroit:20121009T180000
DTSTAMP:20260420T064106
CREATED:20170119T183405Z
LAST-MODIFIED:20170119T183405Z
UID:5574-1349769600-1349805600@staging.miedemaauctioneering.com
SUMMARY:Adams Christian School Charity Auction
DESCRIPTION:
URL:https://staging.miedemaauctioneering.com/auction-calendar/adams-christian-school-charity-auction/
LOCATION:5539 Byron Center Ave SW\, Wyoming \, MI\, 49509\, United States
GEO:42.864071;-85.7238253
X-APPLE-STRUCTURED-LOCATION;VALUE=URI;X-ADDRESS=5539 Byron Center Ave SW Wyoming  MI 49509 United States;X-APPLE-RADIUS=500;X-TITLE=5539 Byron Center Ave SW:geo:-85.7238253,42.864071
ORGANIZER;CN="Chuck%20Ranney%20-%20Auction%20Manager":MAILTO:chuck@1800lastbid.com
END:VEVENT
END:VCALENDAR