BEGIN:VCALENDAR
VERSION:2.0
PRODID:-//Miedema Auctioneering &amp; Appraisals, Inc. - ECPv4.6.23//NONSGML v1.0//EN
CALSCALE:GREGORIAN
METHOD:PUBLISH
X-WR-CALNAME:Miedema Auctioneering &amp; Appraisals, Inc.
X-ORIGINAL-URL:https://staging.miedemaauctioneering.com
X-WR-CALDESC:Events for Miedema Auctioneering &amp; Appraisals, Inc.
BEGIN:VEVENT
DTSTART;TZID=America/Detroit:20110727T180000
DTEND;TZID=America/Detroit:20110727T190000
DTSTAMP:20260419T170217
CREATED:20170120T150450Z
LAST-MODIFIED:20170120T150450Z
UID:5788-1311789600-1311793200@staging.miedemaauctioneering.com
SUMMARY:(2) Kalamazoo Greenhouse Operations Real Estate Auctions
DESCRIPTION:(2) Kalamazoo greenhouse operations – Real Estate Auctions Wednesday July 27\, 6PM. By order of the secured creditor\, 2 greenhouse operations in Kalamazoo must be sold. Both are currently leased and in use. Selling will be Property #1 the former DenHartigh Greenhouses & Property #2 the former Bell Greenhouses. DenHartigh is over 100\,000 sq ft of  greenhouse and Bell is over 60\,000 sq ft of useable greenhouse. Outstanding opportunity! Both must be sold. Greenstone Farm Credit Service – Owner. Also selling Property #3 a ranch home adjacent to the Former Bell Greenhouse property. Will sell as a separate parcel from the greenhouse real estate. A nice home by itself or buy with the greenhouses. No minimum bid – it will sell to a new owner. Scott Bell – Owner. Auction will be held at Kalamazoo County Fairgrounds Expo Center – 2900 Lake Street Kalamazoo\, MI 49048. \nAuction Brochure \n
URL:https://staging.miedemaauctioneering.com/auction-calendar/2-kalamazoo-greenhouse-operations-real-estate-auctions/
LOCATION:Kalamazoo\, MI\, United States
GEO:42.2917069;-85.5872286
ORGANIZER;CN="Chuck%20Ranney%20-%20Auction%20Manager":MAILTO:chuck@1800lastbid.com
END:VEVENT
END:VCALENDAR